BEGIN:VCALENDAR
VERSION:2.0
PRODID:-//https://musicazul.com - ECPv6.11.2.1//NONSGML v1.0//EN
CALSCALE:GREGORIAN
METHOD:PUBLISH
X-WR-CALNAME:https://musicazul.com
X-ORIGINAL-URL:https://musicazul.com
X-WR-CALDESC:Eventos para https://musicazul.com
REFRESH-INTERVAL;VALUE=DURATION:PT1H
X-Robots-Tag:noindex
X-PUBLISHED-TTL:PT1H
BEGIN:VTIMEZONE
TZID:Europe/Madrid
BEGIN:DAYLIGHT
TZOFFSETFROM:+0100
TZOFFSETTO:+0200
TZNAME:CEST
DTSTART:20240331T010000
END:DAYLIGHT
BEGIN:STANDARD
TZOFFSETFROM:+0200
TZOFFSETTO:+0100
TZNAME:CET
DTSTART:20241027T010000
END:STANDARD
END:VTIMEZONE
BEGIN:VEVENT
DTSTART;TZID=Europe/Madrid:20241110T193000
DTEND;TZID=Europe/Madrid:20241110T233000
DTSTAMP:20260419T164516
CREATED:20240316T151714Z
LAST-MODIFIED:20240316T151714Z
UID:147748-1731267000-1731281400@musicazul.com
SUMMARY:Russian Circles + REZN
DESCRIPTION:ENTRADAS ANTICIPADAS
URL:https://musicazul.com/event/russian-circles-rezn-madrid-nazca-domingo-10-noviembre-2024/
LOCATION:Nazca\, Calle Orense\, 24\, Madrid\, Comunidad de Madrid\, 28020\, España
ATTACH;FMTTYPE=image/jpeg:https://www.musicazul.com/wp-content/uploads/2024/03/russiancircles16032024-.jpg
END:VEVENT
BEGIN:VEVENT
DTSTART;TZID=Europe/Madrid:20241110T190000
DTEND;TZID=Europe/Madrid:20241110T233000
DTSTAMP:20260419T164516
CREATED:20240822T111233Z
LAST-MODIFIED:20240822T111233Z
UID:151236-1731265200-1731281400@musicazul.com
SUMMARY:Falling In Reverse + Hollywood Undead + Sleep Theory
DESCRIPTION:ENTRADAS ANTICIPADAS
URL:https://musicazul.com/event/falling-in-reverse-hollywood-undead-sleep-theory-madrid-palacio-vistalegre-domingo-10-noviembre-2024/
LOCATION:Palacio Vistalegre\, Calle de Matilde Hernández\, s/n\, Carabanchel\, Madrid\, Comunidad de Madrid\, 28025\, España
ATTACH;FMTTYPE=image/jpeg:https://www.musicazul.com/wp-content/uploads/2024/08/fallinginreverse22082024-.jpg
END:VEVENT
BEGIN:VEVENT
DTSTART;TZID=Europe/Madrid:20241109T200000
DTEND;TZID=Europe/Madrid:20241109T233000
DTSTAMP:20260419T164516
CREATED:20240530T125146Z
LAST-MODIFIED:20240530T125146Z
UID:150043-1731182400-1731195000@musicazul.com
SUMMARY:Tyler Ramsey
DESCRIPTION:ENTRADAS ANTICIPADAS
URL:https://musicazul.com/event/tyler-ramsey-barcelona-heliogabal-sabado-9-noviembre-2024/
LOCATION:Heliogàbal\, Calle de Ramón y Cajal\, 80\, Gràcia\, Barcelona\, Catalunya\, 08012\, España
ATTACH;FMTTYPE=image/jpeg:https://www.musicazul.com/wp-content/uploads/2024/05/tylerramsey30052024-.jpg
END:VEVENT
BEGIN:VEVENT
DTSTART;TZID=Europe/Madrid:20241109T200000
DTEND;TZID=Europe/Madrid:20241109T233000
DTSTAMP:20260419T164516
CREATED:20240527T143636Z
LAST-MODIFIED:20240527T143636Z
UID:149985-1731182400-1731195000@musicazul.com
SUMMARY:Hazlett
DESCRIPTION:ENTRADAS ANTICIPADAS
URL:https://musicazul.com/event/hazlett-madrid-clamores-sabado-9-noviembre-2024/
LOCATION:Clamores\, Calle de Alburquerque\, 14\, Chamberí\, Madrid\, Comunidad de Madrid\, 28010\, España
ATTACH;FMTTYPE=image/jpeg:https://www.musicazul.com/wp-content/uploads/2024/05/hazlett27052024-.jpg
END:VEVENT
BEGIN:VEVENT
DTSTART;TZID=Europe/Madrid:20241109T190000
DTEND;TZID=Europe/Madrid:20241109T233000
DTSTAMP:20260419T164516
CREATED:20240602T174538Z
LAST-MODIFIED:20240602T174538Z
UID:150180-1731178800-1731195000@musicazul.com
SUMMARY:Frank Carter & The Rattlesnakes
DESCRIPTION:ENTRADAS ANTICIPADAS
URL:https://musicazul.com/event/frank-carter-the-rattlesnakes-a-coruna-pelicano-sabado-09-noviembre-2024/
LOCATION:Pelícano\, Los Cantones\, Avenida do Porto\, 3\, A Coruña\, Galicia\, 15003\, España
ATTACH;FMTTYPE=image/jpeg:https://www.musicazul.com/wp-content/uploads/2024/06/frankcarter02062024-.jpg
END:VEVENT
BEGIN:VEVENT
DTSTART;TZID=Europe/Madrid:20241108T200000
DTEND;TZID=Europe/Madrid:20241108T233000
DTSTAMP:20260419T164516
CREATED:20240530T124424Z
LAST-MODIFIED:20240530T124424Z
UID:150040-1731096000-1731108600@musicazul.com
SUMMARY:Tyler Ramsey
DESCRIPTION:ENTRADAS ANTICIPADAS
URL:https://musicazul.com/event/tyler-ramsey-zaragoza-la-lata-de-bombillas-viernes-8-noviembre-2024/
LOCATION:La Lata de Bombillas\, Calle de Espoz y Mina\, 19\, Casco Antiguo\, Zaragoza\, Aragón\, 50003\, España
ATTACH;FMTTYPE=image/jpeg:https://www.musicazul.com/wp-content/uploads/2024/05/tylerramsey30052024-.jpg
END:VEVENT
BEGIN:VEVENT
DTSTART;TZID=Europe/Madrid:20241108T200000
DTEND;TZID=Europe/Madrid:20241108T233000
DTSTAMP:20260419T164516
CREATED:20240527T143126Z
LAST-MODIFIED:20240527T143126Z
UID:149983-1731096000-1731108600@musicazul.com
SUMMARY:Hazlett
DESCRIPTION:ENTRADAS ANTICIPADAS
URL:https://musicazul.com/event/hazlett-barcelona-razzmatazz-3-viernes-8-noviembre-2024/
LOCATION:Razzmatazz 3\, Carrer dels Almogàvers\, 122\, Barcelona\, Barcelona\, 08018\, España
ATTACH;FMTTYPE=image/jpeg:https://www.musicazul.com/wp-content/uploads/2024/05/hazlett27052024-.jpg
END:VEVENT
BEGIN:VEVENT
DTSTART;TZID=Europe/Madrid:20241108T190000
DTEND;TZID=Europe/Madrid:20241108T233000
DTSTAMP:20260419T164516
CREATED:20240602T174016Z
LAST-MODIFIED:20240602T174016Z
UID:150178-1731092400-1731108600@musicazul.com
SUMMARY:Frank Carter & The Rattlesnakes
DESCRIPTION:ENTRADAS ANTICIPADAS
URL:https://musicazul.com/event/frank-carter-the-rattlesnakes-bibao-santana-27-viernes-08-noviembre-2024/
LOCATION:Santana 27\, Telleria Kalea\, 27\, Bilbao\, Bizkaia\, 48004\, España
ATTACH;FMTTYPE=image/jpeg:https://www.musicazul.com/wp-content/uploads/2024/06/frankcarter02062024-.jpg
END:VEVENT
BEGIN:VEVENT
DTSTART;TZID=Europe/Madrid:20241107T200000
DTEND;TZID=Europe/Madrid:20241107T233000
DTSTAMP:20260419T164516
CREATED:20241020T133325Z
LAST-MODIFIED:20241020T133325Z
UID:152045-1731009600-1731022200@musicazul.com
SUMMARY:Los Bengala
DESCRIPTION:ENTRADAS ANTICIPADAS
URL:https://musicazul.com/event/los-bengala-madrid-boite-live-jueves-7-noviembre-2024/
LOCATION:Boite Live\, Calle Tetuán\, 27\, Madrid\, Comunidad de Madrid\, 28013\, Spain
ATTACH;FMTTYPE=image/jpeg:https://www.musicazul.com/wp-content/uploads/2024/09/losbengala28092024-.jpg
END:VEVENT
BEGIN:VEVENT
DTSTART;TZID=Europe/Madrid:20241107T190000
DTEND;TZID=Europe/Madrid:20241107T233000
DTSTAMP:20260419T164516
CREATED:20240602T173559Z
LAST-MODIFIED:20240602T173559Z
UID:150176-1731006000-1731022200@musicazul.com
SUMMARY:Frank Carter & The Rattlesnakes
DESCRIPTION:ENTRADAS ANTICIPADAS
URL:https://musicazul.com/event/frank-carter-the-rattlesnakes-barcelona-razzmatazz-2-jueves-07-noviembre-2024/
LOCATION:Razzmatazz 2\, Calle de Pamplona\, 88\, Sant Martí\, Barcelona\, Catalunya\, 08018\, España
ATTACH;FMTTYPE=image/jpeg:https://www.musicazul.com/wp-content/uploads/2024/06/frankcarter02062024-.jpg
END:VEVENT
BEGIN:VEVENT
DTSTART;TZID=Europe/Madrid:20241107T190000
DTEND;TZID=Europe/Madrid:20241107T233000
DTSTAMP:20260419T164516
CREATED:20240502T085522Z
LAST-MODIFIED:20240502T085522Z
UID:149262-1731006000-1731022200@musicazul.com
SUMMARY:Jack Botts
DESCRIPTION:ENTRADAS ANTICIPADAS
URL:https://musicazul.com/event/jack-botts-madrid-el-sol-jueves-7-noviembre-2024/
LOCATION:El Sol\, C. de los Jardines\, 3\, Centro\, Madrid\, Comunidad de Madrid\, 28013\, España
ATTACH;FMTTYPE=image/jpeg:https://www.musicazul.com/wp-content/uploads/2024/05/jackbotts01052024-.jpg
END:VEVENT
BEGIN:VEVENT
DTSTART;TZID=Europe/Madrid:20241106T210000
DTEND;TZID=Europe/Madrid:20241106T233000
DTSTAMP:20260419T164516
CREATED:20240221T162922Z
LAST-MODIFIED:20240515T153600Z
UID:149662-1730926800-1730935800@musicazul.com
SUMMARY:tindersticks
DESCRIPTION:ENTRADAS ANTICIPADAS
URL:https://musicazul.com/event/tindersticks-barcelona-palau-de-la-musica-miercoles-6-noviembre-2024/
LOCATION:Palau de la Música\, Calle Palau de la Música\, 4-6\, Ciutat Vella\, Barcelona\, Catalunya\, 08003\, España
ATTACH;FMTTYPE=image/jpeg:https://www.musicazul.com/wp-content/uploads/2024/05/tindersticks15052024-.jpg
END:VEVENT
BEGIN:VEVENT
DTSTART;TZID=Europe/Madrid:20241106T200000
DTEND;TZID=Europe/Madrid:20241106T233000
DTSTAMP:20260419T164516
CREATED:20240604T101100Z
LAST-MODIFIED:20240604T101100Z
UID:150232-1730923200-1730935800@musicazul.com
SUMMARY:Kaleo + Június Meyvant
DESCRIPTION:ENTRADAS ANTICIPADAS
URL:https://musicazul.com/event/kaleo-junius-meyvant-barcelona-razzmatazz-miercoles-6-noviembre-2024/
LOCATION:Razzmatazz\, Carrer dels Almogàvers\, 122\, Sant Martí\, Barcelona\, Barcelona\, 08018\, España
ATTACH;FMTTYPE=image/jpeg:https://www.musicazul.com/wp-content/uploads/2024/06/kaleo04062024-.jpg
END:VEVENT
BEGIN:VEVENT
DTSTART;TZID=Europe/Madrid:20241106T190000
DTEND;TZID=Europe/Madrid:20241106T233000
DTSTAMP:20260419T164516
CREATED:20240502T085125Z
LAST-MODIFIED:20240502T085125Z
UID:149260-1730919600-1730935800@musicazul.com
SUMMARY:Jack Botts
DESCRIPTION:ENTRADAS ANTICIPADAS
URL:https://musicazul.com/event/jack-botts-barcelona-razzmatazz-3-miercoles-6-noviembre-2024/
LOCATION:Razzmatazz 3\, Carrer dels Almogàvers\, 122\, Barcelona\, Barcelona\, 08018\, España
ATTACH;FMTTYPE=image/jpeg:https://www.musicazul.com/wp-content/uploads/2024/05/jackbotts01052024-.jpg
END:VEVENT
BEGIN:VEVENT
DTSTART;TZID=Europe/Madrid:20241106T190000
DTEND;TZID=Europe/Madrid:20241106T233000
DTSTAMP:20260419T164516
CREATED:20240409T094348Z
LAST-MODIFIED:20240409T094348Z
UID:148515-1730919600-1730935800@musicazul.com
SUMMARY:The Ghost Inside
DESCRIPTION:ENTRADAS ANTICIPADAS
URL:https://musicazul.com/event/the-ghost-inside-madrid-la-riviera-martes-6-noviembre-2024/
LOCATION:La Riviera\, Paseo Bajo de la Virgen del Puerto\, S/N\, Arganzuela\, Madrid\, Madrid\, 28005\, España
ATTACH;FMTTYPE=image/jpeg:https://www.musicazul.com/wp-content/uploads/2024/04/theghostinside09042024-.jpg
END:VEVENT
BEGIN:VEVENT
DTSTART;TZID=Europe/Madrid:20241105T200000
DTEND;TZID=Europe/Madrid:20241105T233000
DTSTAMP:20260419T164516
CREATED:20240604T100329Z
LAST-MODIFIED:20240604T100329Z
UID:150230-1730836800-1730849400@musicazul.com
SUMMARY:Kaleo + Június Meyvant
DESCRIPTION:ENTRADAS ANTICIPADAS
URL:https://musicazul.com/event/kaleo-junius-meyvant-madrid-la-riviera-martes-5-noviembre-2024/
LOCATION:La Riviera\, Paseo Bajo de la Virgen del Puerto\, S/N\, Arganzuela\, Madrid\, Madrid\, 28005\, España
ATTACH;FMTTYPE=image/jpeg:https://www.musicazul.com/wp-content/uploads/2024/06/kaleo04062024-.jpg
END:VEVENT
BEGIN:VEVENT
DTSTART;TZID=Europe/Madrid:20241105T190000
DTEND;TZID=Europe/Madrid:20241105T233000
DTSTAMP:20260419T164516
CREATED:20240409T094103Z
LAST-MODIFIED:20240409T094103Z
UID:148513-1730833200-1730849400@musicazul.com
SUMMARY:The Ghost Inside
DESCRIPTION:ENTRADAS ANTICIPADAS
URL:https://musicazul.com/event/the-ghost-inside-barcelona-razzmatazz-martes-5-noviembre-2024/
LOCATION:Razzmatazz\, Carrer dels Almogàvers\, 122\, Sant Martí\, Barcelona\, Barcelona\, 08018\, España
ATTACH;FMTTYPE=image/jpeg:https://www.musicazul.com/wp-content/uploads/2024/04/theghostinside09042024-.jpg
END:VEVENT
BEGIN:VEVENT
DTSTART;TZID=Europe/Madrid:20241104T203000
DTEND;TZID=Europe/Madrid:20241104T233000
DTSTAMP:20260419T164516
CREATED:20240221T161620Z
LAST-MODIFIED:20240515T152807Z
UID:149658-1730752200-1730763000@musicazul.com
SUMMARY:tindersticks
DESCRIPTION:ENTRADAS ANTICIPADAS
URL:https://musicazul.com/event/tindersticks-madrid-teatro-coliseum-lunes-4-noviembre-2024/
LOCATION:Teatro Coliseum\, Gran Vía\, 78\, Centro\, Madrid\, Comunidad de Madrid\, 28013\, España
ATTACH;FMTTYPE=image/jpeg:https://www.musicazul.com/wp-content/uploads/2024/05/tindersticks15052024-.jpg
END:VEVENT
BEGIN:VEVENT
DTSTART;TZID=Europe/Madrid:20241104T200000
DTEND;TZID=Europe/Madrid:20241104T233000
DTSTAMP:20260419T164516
CREATED:20231124T223550Z
LAST-MODIFIED:20240810T213757Z
UID:150939-1730750400-1730763000@musicazul.com
SUMMARY:Jacob Collier
DESCRIPTION:ENTRADAS ANTICIPADAS
URL:https://musicazul.com/event/jacob-collier-barcelona-sant-jordi-club-lunes-4-noviembre-2024/
LOCATION:Sant Jordi Club\, Passeig Olímpic\, 5-7\, Sants-Montjuïc\, Barcelona\, Barcelona\, 08038\, España
ATTACH;FMTTYPE=image/jpeg:https://www.musicazul.com/wp-content/uploads/2024/08/jacobcollier24112023-.jpg
END:VEVENT
BEGIN:VEVENT
DTSTART;TZID=Europe/Madrid:20241103T200000
DTEND;TZID=Europe/Madrid:20241103T233000
DTSTAMP:20260419T164516
CREATED:20231124T222320Z
LAST-MODIFIED:20240810T213408Z
UID:150935-1730664000-1730676600@musicazul.com
SUMMARY:Jacob Collier
DESCRIPTION:ENTRADAS ANTICIPADAS
URL:https://musicazul.com/event/jacob-collier-madrid-wizink-center-domingo-3-noviembre-2024/
LOCATION:WiZink Center\, Avenida de Felipe II\, s/n\, Madrid\, Comunidad de Madrid\, 28009\, España
ATTACH;FMTTYPE=image/jpeg:https://www.musicazul.com/wp-content/uploads/2024/08/jacobcollier24112023-.jpg
END:VEVENT
BEGIN:VEVENT
DTSTART;TZID=Europe/Madrid:20241102T193000
DTEND;TZID=Europe/Madrid:20241102T233000
DTSTAMP:20260419T164516
CREATED:20240604T152239Z
LAST-MODIFIED:20240604T152239Z
UID:150266-1730575800-1730590200@musicazul.com
SUMMARY:Black Pumas
DESCRIPTION:ENTRADAS ANTICIPADAS
URL:https://musicazul.com/event/black-pumas-barcelona-sant-jordi-club-sabado-2-noviembre-2024/
LOCATION:Sant Jordi Club\, Passeig Olímpic\, 5-7\, Sants-Montjuïc\, Barcelona\, Barcelona\, 08038\, España
ATTACH;FMTTYPE=image/jpeg:https://www.musicazul.com/wp-content/uploads/2023/08/blackpumas22082023-.jpg
END:VEVENT
BEGIN:VEVENT
DTSTART;TZID=Europe/Madrid:20241102T190000
DTEND;TZID=Europe/Madrid:20241102T233000
DTSTAMP:20260419T164516
CREATED:20240429T090130Z
LAST-MODIFIED:20240429T090130Z
UID:149150-1730574000-1730590200@musicazul.com
SUMMARY:Fontaines D.C. + Wunderhorse
DESCRIPTION:ENTRADAS ANTICIPADAS
URL:https://musicazul.com/event/fontaines-d-c-wunderhorse-madrid-wizink-center-sabado-2-noviembre-2024/
LOCATION:WiZink Center\, Avenida de Felipe II\, s/n\, Madrid\, Comunidad de Madrid\, 28009\, España
ATTACH;FMTTYPE=image/jpeg:https://www.musicazul.com/wp-content/uploads/2024/04/fontaiesdc18042024-.jpg
END:VEVENT
BEGIN:VEVENT
DTSTART;TZID=Europe/Madrid:20241101T190000
DTEND;TZID=Europe/Madrid:20241101T233000
DTSTAMP:20260419T164516
CREATED:20240513T152617Z
LAST-MODIFIED:20240513T152617Z
UID:149540-1730487600-1730503800@musicazul.com
SUMMARY:L’Impératrice
DESCRIPTION:ENTRADAS ANTICIPADAS
URL:https://musicazul.com/event/limperatrice-madrid-la-riviera-viernes-1-noviembre-2024/
LOCATION:La Riviera\, Paseo Bajo de la Virgen del Puerto\, S/N\, Arganzuela\, Madrid\, Madrid\, 28005\, España
ATTACH;FMTTYPE=image/jpeg:https://www.musicazul.com/wp-content/uploads/2024/05/limperatrice13052024-.jpg
END:VEVENT
BEGIN:VEVENT
DTSTART;TZID=Europe/Madrid:20241031T193000
DTEND;TZID=Europe/Madrid:20241031T233000
DTSTAMP:20260419T164516
CREATED:20240102T151444Z
LAST-MODIFIED:20240102T151444Z
UID:146098-1730403000-1730417400@musicazul.com
SUMMARY:Carín León
DESCRIPTION:ENTRADAS ANTICIPADAS
URL:https://musicazul.com/event/carin-leon-madrid-wizink-center-jueves-31-octubre-2024/
LOCATION:WiZink Center\, Avenida de Felipe II\, s/n\, Madrid\, Comunidad de Madrid\, 28009\, España
ATTACH;FMTTYPE=image/jpeg:https://www.musicazul.com/wp-content/uploads/2024/01/carinleon02012024-.jpg
END:VEVENT
BEGIN:VEVENT
DTSTART;TZID=Europe/Madrid:20241031T190000
DTEND;TZID=Europe/Madrid:20241031T233000
DTSTAMP:20260419T164516
CREATED:20240513T151638Z
LAST-MODIFIED:20240513T151638Z
UID:149538-1730401200-1730417400@musicazul.com
SUMMARY:L’Impératrice
DESCRIPTION:ENTRADAS ANTICIPADAS
URL:https://musicazul.com/event/limperatrice-barcelona-razzmatazz-jueves-31-octubre-2024/
LOCATION:Razzmatazz\, Carrer dels Almogàvers\, 122\, Sant Martí\, Barcelona\, Barcelona\, 08018\, España
ATTACH;FMTTYPE=image/jpeg:https://www.musicazul.com/wp-content/uploads/2024/05/limperatrice13052024-.jpg
END:VEVENT
BEGIN:VEVENT
DTSTART;TZID=Europe/Madrid:20241030T200000
DTEND;TZID=Europe/Madrid:20241030T233000
DTSTAMP:20260419T164516
CREATED:20240416T082429Z
LAST-MODIFIED:20240416T082429Z
UID:148659-1730318400-1730331000@musicazul.com
SUMMARY:Kim Churchill
DESCRIPTION:ENTRADAS ANTICIPADAS
URL:https://musicazul.com/event/kim-churchill-madrid-clamores-miercoles-30-octubre-2024/
LOCATION:Clamores\, Calle de Alburquerque\, 14\, Chamberí\, Madrid\, Comunidad de Madrid\, 28010\, España
ATTACH;FMTTYPE=image/jpeg:https://www.musicazul.com/wp-content/uploads/2024/04/kimchurchill15042024-.jpg
END:VEVENT
BEGIN:VEVENT
DTSTART;TZID=Europe/Madrid:20241030T190000
DTEND;TZID=Europe/Madrid:20241030T233000
DTSTAMP:20260419T164516
CREATED:20240514T093518Z
LAST-MODIFIED:20240514T093518Z
UID:149562-1730314800-1730331000@musicazul.com
SUMMARY:The Marías + [ WINTER ]
DESCRIPTION:ENTRADAS ANTICIPADAS
URL:https://musicazul.com/event/the-marias-winter-madrid-la-riviera-miercoles-30-octubre-2024/
LOCATION:La Riviera\, Paseo Bajo de la Virgen del Puerto\, S/N\, Arganzuela\, Madrid\, Madrid\, 28005\, España
ATTACH;FMTTYPE=image/jpeg:https://www.musicazul.com/wp-content/uploads/2024/05/themarias14052024-.jpg
END:VEVENT
BEGIN:VEVENT
DTSTART;TZID=Europe/Madrid:20241029T200000
DTEND;TZID=Europe/Madrid:20241029T233000
DTSTAMP:20260419T164516
CREATED:20240416T081912Z
LAST-MODIFIED:20240416T081912Z
UID:148657-1730232000-1730244600@musicazul.com
SUMMARY:Kim Churchill
DESCRIPTION:ENTRADAS ANTICIPADAS
URL:https://musicazul.com/event/kim-churchill-barcelona-razzmatazz-3-martes-29-octubre-2024/
LOCATION:Razzmatazz 3\, Carrer dels Almogàvers\, 122\, Barcelona\, Barcelona\, 08018\, España
ATTACH;FMTTYPE=image/jpeg:https://www.musicazul.com/wp-content/uploads/2024/04/kimchurchill15042024-.jpg
END:VEVENT
BEGIN:VEVENT
DTSTART;TZID=Europe/Madrid:20241029T190000
DTEND;TZID=Europe/Madrid:20241029T233000
DTSTAMP:20260419T164516
CREATED:20240514T092229Z
LAST-MODIFIED:20240514T092229Z
UID:149560-1730228400-1730244600@musicazul.com
SUMMARY:The Marías + [ WINTER ]
DESCRIPTION:ENTRADAS ANTICIPADAS
URL:https://musicazul.com/event/the-marias-winter-barcelona-razzmatazz-martes-29-octubre-2024/
LOCATION:Razzmatazz\, Carrer dels Almogàvers\, 122\, Sant Martí\, Barcelona\, Barcelona\, 08018\, España
ATTACH;FMTTYPE=image/jpeg:https://www.musicazul.com/wp-content/uploads/2024/05/themarias14052024-.jpg
END:VEVENT
BEGIN:VEVENT
DTSTART;TZID=Europe/Madrid:20241025T210000
DTEND;TZID=Europe/Madrid:20241025T233000
DTSTAMP:20260419T164516
CREATED:20240423T172743Z
LAST-MODIFIED:20240423T172743Z
UID:148962-1729890000-1729899000@musicazul.com
SUMMARY:Foyone
DESCRIPTION:ENTRADAS ANTICIPADAS
URL:https://musicazul.com/event/foyone-valencia-repvblicca-viernes-25-octubre-2024/
LOCATION:Repvblicca\, Polígono Industrial Mislata\, Carrer Baix Vinalopó\, 2\, Valencia\, Valencia\, 46920\, España
ATTACH;FMTTYPE=image/jpeg:https://www.musicazul.com/wp-content/uploads/2024/04/foyone23042024-.jpg
END:VEVENT
END:VCALENDAR