BEGIN:VCALENDAR
VERSION:2.0
PRODID:-//https://musicazul.com - ECPv6.11.2.1//NONSGML v1.0//EN
CALSCALE:GREGORIAN
METHOD:PUBLISH
X-ORIGINAL-URL:https://musicazul.com
X-WR-CALDESC:Eventos para https://musicazul.com
REFRESH-INTERVAL;VALUE=DURATION:PT1H
X-Robots-Tag:noindex
X-PUBLISHED-TTL:PT1H
BEGIN:VTIMEZONE
TZID:Europe/Madrid
BEGIN:DAYLIGHT
TZOFFSETFROM:+0100
TZOFFSETTO:+0200
TZNAME:CEST
DTSTART:20240331T010000
END:DAYLIGHT
BEGIN:STANDARD
TZOFFSETFROM:+0200
TZOFFSETTO:+0100
TZNAME:CET
DTSTART:20241027T010000
END:STANDARD
END:VTIMEZONE
BEGIN:VEVENT
DTSTART;TZID=Europe/Madrid:20240928T180000
DTEND;TZID=Europe/Madrid:20240928T233000
DTSTAMP:20260419T213729
CREATED:20240408T150414Z
LAST-MODIFIED:20240408T150414Z
UID:148479-1727546400-1727566200@musicazul.com
SUMMARY:Kristonfest 2024
DESCRIPTION:ENTRADAS ANTICIPADAS
URL:https://musicazul.com/event/kristonfest-2024-madrid-but-sabado-28-septiembre-2024/
LOCATION:But\, Calle Barceló\, 11\, Local B\, Centro\, Madrid\, Comunidad de Madrid\, 28004\, España
ATTACH;FMTTYPE=image/jpeg:https://www.musicazul.com/wp-content/uploads/2024/04/monstermagnet08042024-.jpg
END:VEVENT
BEGIN:VEVENT
DTSTART;TZID=Europe/Madrid:20240927T210000
DTEND;TZID=Europe/Madrid:20240927T233000
DTSTAMP:20260419T213729
CREATED:20240401T164823Z
LAST-MODIFIED:20240401T164823Z
UID:148312-1727470800-1727479800@musicazul.com
SUMMARY:The Mission
DESCRIPTION:ENTRADAS ANTICIPADAS
URL:https://musicazul.com/event/the-mission-murcia-visor-fest-viernes-27-septiembre-2024/
LOCATION:Visor Fest\, Murcia\, Murcia\, España
ATTACH;FMTTYPE=image/jpeg:https://www.musicazul.com/wp-content/uploads/2024/04/themission01042024-.jpg
END:VEVENT
BEGIN:VEVENT
DTSTART;TZID=Europe/Madrid:20240927T190000
DTEND;TZID=Europe/Madrid:20240928T233000
DTSTAMP:20260419T213729
CREATED:20240206T100404Z
LAST-MODIFIED:20240206T100404Z
UID:146684-1727463600-1727566200@musicazul.com
SUMMARY:Visor Fest 2024
DESCRIPTION:ENTRADAS ANTICIPADAS
URL:https://musicazul.com/event/visor-fest-2024-murcia-la-fica-septiembre-2024/
LOCATION:Recinto Ferial La Fica\, Diseminado Primero Mayo\, 19\, Murcia\, Murcia\, 30003\, España
ATTACH;FMTTYPE=image/jpeg:https://www.musicazul.com/wp-content/uploads/2024/02/visorfestagenda2024-.jpg
END:VEVENT
BEGIN:VEVENT
DTSTART;TZID=Europe/Madrid:20240927T190000
DTEND;TZID=Europe/Madrid:20240927T233000
DTSTAMP:20260419T213729
CREATED:20240408T145841Z
LAST-MODIFIED:20240408T150000Z
UID:148477-1727463600-1727479800@musicazul.com
SUMMARY:Kristonfest 2024
DESCRIPTION:ENTRADAS ANTICIPADAS
URL:https://musicazul.com/event/kristonfest-2024-bilbao-santana-27-viernes-27-septiembre-2024/
LOCATION:Santana 27\, Telleria Kalea\, 27\, Bilbao\, Bizkaia\, 48004\, España
ATTACH;FMTTYPE=image/jpeg:https://www.musicazul.com/wp-content/uploads/2024/04/monstermagnet08042024-.jpg
END:VEVENT
BEGIN:VEVENT
DTSTART;TZID=Europe/Madrid:20240926T210000
DTEND;TZID=Europe/Madrid:20240926T233000
DTSTAMP:20260419T213729
CREATED:20240401T164435Z
LAST-MODIFIED:20240401T164435Z
UID:148309-1727384400-1727393400@musicazul.com
SUMMARY:The Mission
DESCRIPTION:ENTRADAS ANTICIPADAS
URL:https://musicazul.com/event/the-mission-madrid-chango-jueves-26-septiembre-2024/
LOCATION:Changó\, Calle de Covarrubias\, 42\, Chamberí\, Madrid\, Comunidad de Madrid\, 28010\, España
ATTACH;FMTTYPE=image/jpeg:https://www.musicazul.com/wp-content/uploads/2024/04/themission01042024-.jpg
END:VEVENT
BEGIN:VEVENT
DTSTART;TZID=Europe/Madrid:20240926T190000
DTEND;TZID=Europe/Madrid:20240926T233000
DTSTAMP:20260419T213729
CREATED:20240502T084553Z
LAST-MODIFIED:20240502T084553Z
UID:149258-1727377200-1727393400@musicazul.com
SUMMARY:The HU
DESCRIPTION:ENTRADAS ANTICIPADAS
URL:https://musicazul.com/event/the-hu-madrid-la-riviera-jueves-26-septiembre-2024/
LOCATION:La Riviera\, Paseo Bajo de la Virgen del Puerto\, S/N\, Arganzuela\, Madrid\, Madrid\, 28005\, España
ATTACH;FMTTYPE=image/jpeg:https://www.musicazul.com/wp-content/uploads/2024/05/thehu01052024-.jpg
END:VEVENT
BEGIN:VEVENT
DTSTART;TZID=Europe/Madrid:20240925T190000
DTEND;TZID=Europe/Madrid:20240925T233000
DTSTAMP:20260419T213729
CREATED:20240502T084127Z
LAST-MODIFIED:20240502T084127Z
UID:149256-1727290800-1727307000@musicazul.com
SUMMARY:The HU
DESCRIPTION:ENTRADAS ANTICIPADAS
URL:https://musicazul.com/event/the-hu-barcelona-razzmatazz-miercoles-25-septiembre-2024/
LOCATION:Razzmatazz\, Carrer dels Almogàvers\, 122\, Sant Martí\, Barcelona\, Barcelona\, 08018\, España
ATTACH;FMTTYPE=image/jpeg:https://www.musicazul.com/wp-content/uploads/2024/05/thehu01052024-.jpg
END:VEVENT
BEGIN:VEVENT
DTSTART;TZID=Europe/Madrid:20240925T190000
DTEND;TZID=Europe/Madrid:20240925T233000
DTSTAMP:20260419T213729
CREATED:20240401T162955Z
LAST-MODIFIED:20240401T162955Z
UID:148307-1727290800-1727307000@musicazul.com
SUMMARY:The Mission
DESCRIPTION:ENTRADAS ANTICIPADAS
URL:https://musicazul.com/event/the-mission-barcelona-razzmatazz-2-miercoles-25-septiembre-2024/
LOCATION:Razzmatazz 2\, Calle de Pamplona\, 88\, Sant Martí\, Barcelona\, Catalunya\, 08018\, España
ATTACH;FMTTYPE=image/jpeg:https://www.musicazul.com/wp-content/uploads/2024/04/themission01042024-.jpg
END:VEVENT
BEGIN:VEVENT
DTSTART;TZID=Europe/Madrid:20240924T200000
DTEND;TZID=Europe/Madrid:20240924T233000
DTSTAMP:20260419T213729
CREATED:20240711T120725Z
LAST-MODIFIED:20240711T120725Z
UID:150398-1727208000-1727220600@musicazul.com
SUMMARY:Interpol
DESCRIPTION:ENTRADAS ANTICIPADAS
URL:https://musicazul.com/event/interpol-barcelona-parallel-62-martes-24-septiembre-2024/
LOCATION:Paral·lel 62\, Avenida del Paral·lel\, 62\, Ciutat Vella\, Barcelona\, Barcelona\, 08001\, España
ATTACH;FMTTYPE=image/jpeg:https://www.musicazul.com/wp-content/uploads/2024/07/interpol11072024-.jpg
END:VEVENT
BEGIN:VEVENT
DTSTART;TZID=Europe/Madrid:20240924T193000
DTEND;TZID=Europe/Madrid:20240924T233000
DTSTAMP:20260419T213729
CREATED:20240329T182728Z
LAST-MODIFIED:20240329T182728Z
UID:148115-1727206200-1727220600@musicazul.com
SUMMARY:jxdn
DESCRIPTION:ENTRADAS ANTICIPADAS
URL:https://musicazul.com/event/jxdn-barcelona-razzmatazz-martes-24-septiembre-2024/
LOCATION:Razzmatazz\, Carrer dels Almogàvers\, 122\, Sant Martí\, Barcelona\, Barcelona\, 08018\, España
ATTACH;FMTTYPE=image/jpeg:https://www.musicazul.com/wp-content/uploads/2024/03/jxdn29032024-.jpg
END:VEVENT
BEGIN:VEVENT
DTSTART;TZID=Europe/Madrid:20240923T193000
DTEND;TZID=Europe/Madrid:20240923T233000
DTSTAMP:20260419T213729
CREATED:20240329T182308Z
LAST-MODIFIED:20240329T182308Z
UID:148113-1727119800-1727134200@musicazul.com
SUMMARY:jxdn
DESCRIPTION:ENTRADAS ANTICIPADAS
URL:https://musicazul.com/event/jxdn-madrid-la-riviera-lunes-23-septiembre-2024/
LOCATION:La Riviera\, Paseo Bajo de la Virgen del Puerto\, S/N\, Arganzuela\, Madrid\, Madrid\, 28005\, España
ATTACH;FMTTYPE=image/jpeg:https://www.musicazul.com/wp-content/uploads/2024/03/jxdn29032024-.jpg
END:VEVENT
BEGIN:VEVENT
DTSTART;TZID=Europe/Madrid:20240922T210000
DTEND;TZID=Europe/Madrid:20240922T233000
DTSTAMP:20260419T213729
CREATED:20240804T181627Z
LAST-MODIFIED:20240804T181627Z
UID:150851-1727038800-1727047800@musicazul.com
SUMMARY:Cordovas
DESCRIPTION:ENTRADAS ANTICIPADAS
URL:https://musicazul.com/event/cordovas-santander-escenario-santander-domingo-22-septiembre-2024/
LOCATION:Escenario Santander\, Av. de la Constitución\, 39\, Santander\, Cantabria\, 39012\, España
ATTACH;FMTTYPE=image/jpeg:https://www.musicazul.com/wp-content/uploads/2024/08/cordovas04082024--1.jpg
END:VEVENT
BEGIN:VEVENT
DTSTART;TZID=Europe/Madrid:20240921T210000
DTEND;TZID=Europe/Madrid:20240921T233000
DTSTAMP:20260419T213729
CREATED:20240804T180747Z
LAST-MODIFIED:20240804T180747Z
UID:150848-1726952400-1726961400@musicazul.com
SUMMARY:Cordovas
DESCRIPTION:ENTRADAS ANTICIPADAS
URL:https://musicazul.com/event/cordovas-segovia-octavo-arte-sabado-21-septiembre-2024/
LOCATION:Octavo Arte\, Carretera de Valladolid\, 8\, La Lastrilla (Segovia)\, Castilla y León\, 40196\, España
ATTACH;FMTTYPE=image/jpeg:https://www.musicazul.com/wp-content/uploads/2024/08/cordovas04082024--1.jpg
END:VEVENT
BEGIN:VEVENT
DTSTART;TZID=Europe/Madrid:20240920T200000
DTEND;TZID=Europe/Madrid:20240920T233000
DTSTAMP:20260419T213729
CREATED:20240804T175836Z
LAST-MODIFIED:20240804T175836Z
UID:150843-1726862400-1726875000@musicazul.com
SUMMARY:Cordovas
DESCRIPTION:ENTRADAS ANTICIPADAS
URL:https://musicazul.com/event/cordovas-getxo-puerto-viejo-viernes-20-septiembre-2024/
LOCATION:Puerto Viejo\, Muelle Ereaga Kaia\, 28\, Algorta (Getxo)\, País Vasco\, 48991\, España
ATTACH;FMTTYPE=image/jpeg:https://www.musicazul.com/wp-content/uploads/2024/08/cordovas04082024--1.jpg
END:VEVENT
BEGIN:VEVENT
DTSTART;TZID=Europe/Madrid:20240919T210000
DTEND;TZID=Europe/Madrid:20240919T233000
DTSTAMP:20260419T213729
CREATED:20240804T175057Z
LAST-MODIFIED:20240804T175057Z
UID:150839-1726779600-1726788600@musicazul.com
SUMMARY:Cordovas
DESCRIPTION:ENTRADAS ANTICIPADAS
URL:https://musicazul.com/event/cordovas-zaragoza-rock-and-blues-cafe-jueves-19-septiembre-2024/
LOCATION:Rock & Blues Café\, Calle del Cuatro de Agosto\, 5\, Zaragoza\, Aragón\, 5003\, España
ATTACH;FMTTYPE=image/jpeg:https://www.musicazul.com/wp-content/uploads/2024/08/cordovas04082024--1.jpg
END:VEVENT
BEGIN:VEVENT
DTSTART;TZID=Europe/Madrid:20240919T200000
DTEND;TZID=Europe/Madrid:20240919T233000
DTSTAMP:20260419T213729
CREATED:20240311T113324Z
LAST-MODIFIED:20240311T113324Z
UID:147591-1726776000-1726788600@musicazul.com
SUMMARY:Azahriah
DESCRIPTION:ENTRADAS ANTICIPADAS
URL:https://musicazul.com/event/azahriah-barcelona-razzmatazz-2-jueves-19-septiembre-2024/
LOCATION:Razzmatazz 2\, Calle de Pamplona\, 88\, Sant Martí\, Barcelona\, Catalunya\, 08018\, España
ATTACH;FMTTYPE=image/jpeg:https://www.musicazul.com/wp-content/uploads/2024/03/azahriah11032024-.jpg
END:VEVENT
BEGIN:VEVENT
DTSTART;TZID=Europe/Madrid:20240918T210000
DTEND;TZID=Europe/Madrid:20240918T233000
DTSTAMP:20260419T213729
CREATED:20240804T174638Z
LAST-MODIFIED:20240804T174638Z
UID:150836-1726693200-1726702200@musicazul.com
SUMMARY:Cordovas
DESCRIPTION:ENTRADAS ANTICIPADAS
URL:https://musicazul.com/event/cordovas-caceres-boogaloo-miercoles-18-septiembre-2024/
LOCATION:Boogaloo\, Avenida de Hernán Cortés\, 10\, Cáceres\, Extremadura\, 1004\, España
ATTACH;FMTTYPE=image/jpeg:https://www.musicazul.com/wp-content/uploads/2024/08/cordovas04082024--1.jpg
END:VEVENT
BEGIN:VEVENT
DTSTART;TZID=Europe/Madrid:20240918T190000
DTEND;TZID=Europe/Madrid:20240918T213000
DTSTAMP:20260419T213729
CREATED:20240513T134543Z
LAST-MODIFIED:20240513T134543Z
UID:149529-1726686000-1726695000@musicazul.com
SUMMARY:The Driver Era + Almost Monday
DESCRIPTION:ENTRADAS ANTICIPADAS
URL:https://musicazul.com/event/the-driver-era-almost-monday-barcelona-razzmatazz-miercoles-18-septiembre-2024/
LOCATION:Razzmatazz\, Carrer dels Almogàvers\, 122\, Sant Martí\, Barcelona\, Barcelona\, 08018\, España
ATTACH;FMTTYPE=image/jpeg:https://www.musicazul.com/wp-content/uploads/2024/05/thedriverera13052024-.jpg
END:VEVENT
BEGIN:VEVENT
DTSTART;TZID=Europe/Madrid:20240917T203000
DTEND;TZID=Europe/Madrid:20240917T233000
DTSTAMP:20260419T213729
CREATED:20240405T202009Z
LAST-MODIFIED:20240405T202009Z
UID:148388-1726605000-1726615800@musicazul.com
SUMMARY:Fink
DESCRIPTION:ENTRADAS ANTICIPADAS
URL:https://musicazul.com/event/fink-barcelona-la-2-de-apolo-martes-17-de-septiembre-2024/
LOCATION:La (2) de Apolo\, Carrer Nou de la Rambla\, 113\, Sants-Montjuïc\, Barcelona\, Catalunya\, 08004\, España
ATTACH;FMTTYPE=image/jpeg:https://www.musicazul.com/wp-content/uploads/2024/04/fink05042024-.jpg
END:VEVENT
BEGIN:VEVENT
DTSTART;TZID=Europe/Madrid:20240917T200000
DTEND;TZID=Europe/Madrid:20240917T233000
DTSTAMP:20260419T213729
CREATED:20240503T181235Z
LAST-MODIFIED:20240503T181235Z
UID:149312-1726603200-1726615800@musicazul.com
SUMMARY:Bonny Doon
DESCRIPTION:ENTRADAS ANTICIPADAS
URL:https://musicazul.com/event/bonny-doon-barcelona-laut-martes-17-septiembre-2024/
LOCATION:Laut\, Carrer de Vila i Vilà\, 63\, Sants-Montjuïc\, Barcelona\, Barcelona\, 08004\, España
ATTACH;FMTTYPE=image/jpeg:https://www.musicazul.com/wp-content/uploads/2024/05/bonnydoon03052024-.jpg
END:VEVENT
BEGIN:VEVENT
DTSTART;TZID=Europe/Madrid:20240917T200000
DTEND;TZID=Europe/Madrid:20240917T233000
DTSTAMP:20260419T213729
CREATED:20240305T115234Z
LAST-MODIFIED:20240305T115234Z
UID:147404-1726603200-1726615800@musicazul.com
SUMMARY:Lime Cordiale
DESCRIPTION:ENTRADAS ANTICIPADAS
URL:https://musicazul.com/event/lime-cordiale-madrid-el-sol-martes-17-septiembre-2024/
LOCATION:El Sol\, C. de los Jardines\, 3\, Centro\, Madrid\, Comunidad de Madrid\, 28013\, España
ATTACH;FMTTYPE=image/jpeg:https://www.musicazul.com/wp-content/uploads/2024/03/limecordiale05032024-.jpg
END:VEVENT
BEGIN:VEVENT
DTSTART;TZID=Europe/Madrid:20240917T190000
DTEND;TZID=Europe/Madrid:20240917T233000
DTSTAMP:20260419T213729
CREATED:20240513T134051Z
LAST-MODIFIED:20240513T134051Z
UID:149527-1726599600-1726615800@musicazul.com
SUMMARY:The Driver Era + Almost Monday
DESCRIPTION:ENTRADAS ANTICIPADAS
URL:https://musicazul.com/event/the-driver-era-almost-monday-madrid-la-riviera-martes-17-septiembre-2024/
LOCATION:La Riviera\, Paseo Bajo de la Virgen del Puerto\, S/N\, Arganzuela\, Madrid\, Madrid\, 28005\, España
ATTACH;FMTTYPE=image/jpeg:https://www.musicazul.com/wp-content/uploads/2024/05/thedriverera13052024-.jpg
END:VEVENT
BEGIN:VEVENT
DTSTART;TZID=Europe/Madrid:20240916T200000
DTEND;TZID=Europe/Madrid:20240916T233000
DTSTAMP:20260419T213729
CREATED:20240503T180826Z
LAST-MODIFIED:20240503T180826Z
UID:149310-1726516800-1726529400@musicazul.com
SUMMARY:Bonny Doon
DESCRIPTION:ENTRADAS ANTICIPADAS
URL:https://musicazul.com/event/bonny-doon-madrid-clamores-lunes-16-septiembr-2024/
LOCATION:Clamores\, Calle de Alburquerque\, 14\, Chamberí\, Madrid\, Comunidad de Madrid\, 28010\, España
ATTACH;FMTTYPE=image/jpeg:https://www.musicazul.com/wp-content/uploads/2024/05/bonnydoon03052024-.jpg
END:VEVENT
BEGIN:VEVENT
DTSTART;TZID=Europe/Madrid:20240916T200000
DTEND;TZID=Europe/Madrid:20240916T233000
DTSTAMP:20260419T213729
CREATED:20240305T114342Z
LAST-MODIFIED:20240305T114342Z
UID:147401-1726516800-1726529400@musicazul.com
SUMMARY:Lime Cordiale
DESCRIPTION:ENTRADAS ANTICIPADAS
URL:https://musicazul.com/event/lime-cordiale-barcelona-wolf-lunes-16-septiembre-2024/
LOCATION:Wolf\, C/ dels Almogàvers\, 88\, Sant Martí\, Barcelona\, Catalunya\, 08018\, España
ATTACH;FMTTYPE=image/jpeg:https://www.musicazul.com/wp-content/uploads/2024/03/limecordiale05032024-.jpg
END:VEVENT
BEGIN:VEVENT
DTSTART;TZID=Europe/Madrid:20240916T190000
DTEND;TZID=Europe/Madrid:20240916T233000
DTSTAMP:20260419T213729
CREATED:20240529T132433Z
LAST-MODIFIED:20240529T132433Z
UID:150007-1726513200-1726529400@musicazul.com
SUMMARY:The Driver Era + Almost Monday
DESCRIPTION:ENTRADAS ANTICIPADAS
URL:https://musicazul.com/event/the-driver-era-almost-monday-madrid-la-riviera-lunes-16-septiembre-2024/
LOCATION:La Riviera\, Paseo Bajo de la Virgen del Puerto\, S/N\, Arganzuela\, Madrid\, Madrid\, 28005\, España
ATTACH;FMTTYPE=image/jpeg:https://www.musicazul.com/wp-content/uploads/2024/05/thedriverera13052024-.jpg
END:VEVENT
BEGIN:VEVENT
DTSTART;TZID=Europe/Madrid:20240915T200000
DTEND;TZID=Europe/Madrid:20240915T233000
DTSTAMP:20260419T213729
CREATED:20240405T201542Z
LAST-MODIFIED:20240405T201542Z
UID:148385-1726430400-1726443000@musicazul.com
SUMMARY:Fink
DESCRIPTION:ENTRADAS ANTICIPADAS
URL:https://musicazul.com/event/fink-valencia-jerusalem-domingo-15-septiembre-2024/
LOCATION:Jerusalem\, Calle del Convent de Jerusalem\, 55\, Extramurs\, Valencia\, Comunidad Valenciana\, 46007
ATTACH;FMTTYPE=image/jpeg:https://www.musicazul.com/wp-content/uploads/2024/04/fink05042024-.jpg
END:VEVENT
BEGIN:VEVENT
DTSTART;TZID=Europe/Madrid:20240915T193000
DTEND;TZID=Europe/Madrid:20240915T233000
DTSTAMP:20260419T213729
CREATED:20240315T174147Z
LAST-MODIFIED:20240315T174147Z
UID:147727-1726428600-1726443000@musicazul.com
SUMMARY:Residente
DESCRIPTION:ENTRADAS ANTICIPADAS
URL:https://musicazul.com/event/residente-madrid-wizink-center-domingo-15-septiembre-2024/
LOCATION:WiZink Center\, Avenida de Felipe II\, s/n\, Madrid\, Comunidad de Madrid\, 28009\, España
ATTACH;FMTTYPE=image/jpeg:https://www.musicazul.com/wp-content/uploads/2024/03/residente13032024-.jpg
END:VEVENT
BEGIN:VEVENT
DTSTART;TZID=Europe/Madrid:20240915T180000
DTEND;TZID=Europe/Madrid:20240915T233000
DTSTAMP:20260419T213729
CREATED:20240804T180210Z
LAST-MODIFIED:20240804T180210Z
UID:150846-1726423200-1726443000@musicazul.com
SUMMARY:Cordovas
DESCRIPTION:ENTRADAS ANTICIPADAS
URL:https://musicazul.com/event/cordovas-granada-lemon-rock-domingo-15-septiembre-2024/
LOCATION:Lemon Rock\, Calle Montalbán\, 6\, Granada\, Andalucía\, 18002\, España
ATTACH;FMTTYPE=image/jpeg:https://www.musicazul.com/wp-content/uploads/2024/08/cordovas04082024--1.jpg
END:VEVENT
BEGIN:VEVENT
DTSTART;TZID=Europe/Madrid:20240914T220000
DTEND;TZID=Europe/Madrid:20240914T233000
DTSTAMP:20260419T213729
CREATED:20240804T173633Z
LAST-MODIFIED:20240804T173633Z
UID:150830-1726351200-1726356600@musicazul.com
SUMMARY:Cordovas
DESCRIPTION:ENTRADAS ANTICIPADAS
URL:https://musicazul.com/event/cordovas-jerez-de-la-frontera-la-guarida-del-angel-sabado-14-septiembre-2024/
LOCATION:La Guarida del Ángel\, Calle Porvenir\, 1\, Jerez de la Frontera (Cádiz)\, Andalucía\, 11401\, España
ATTACH;FMTTYPE=image/jpeg:https://www.musicazul.com/wp-content/uploads/2024/08/cordovas04082024--1.jpg
END:VEVENT
BEGIN:VEVENT
DTSTART;TZID=Europe/Madrid:20240914T203000
DTEND;TZID=Europe/Madrid:20240914T233000
DTSTAMP:20260419T213729
CREATED:20240405T194551Z
LAST-MODIFIED:20240405T194551Z
UID:148383-1726345800-1726356600@musicazul.com
SUMMARY:Fink
DESCRIPTION:ENTRADAS ANTICIPADAS
URL:https://musicazul.com/event/fink-madrid-but-sabado-14-septiembre-2024/
LOCATION:But\, Calle Barceló\, 11\, Local B\, Centro\, Madrid\, Comunidad de Madrid\, 28004\, España
ATTACH;FMTTYPE=image/jpeg:https://www.musicazul.com/wp-content/uploads/2024/04/fink05042024-.jpg
END:VEVENT
END:VCALENDAR