BEGIN:VCALENDAR
VERSION:2.0
PRODID:-//https://musicazul.com - ECPv6.11.2.1//NONSGML v1.0//EN
CALSCALE:GREGORIAN
METHOD:PUBLISH
X-ORIGINAL-URL:https://musicazul.com
X-WR-CALDESC:Eventos para https://musicazul.com
REFRESH-INTERVAL;VALUE=DURATION:PT1H
X-Robots-Tag:noindex
X-PUBLISHED-TTL:PT1H
BEGIN:VTIMEZONE
TZID:Europe/Madrid
BEGIN:DAYLIGHT
TZOFFSETFROM:+0100
TZOFFSETTO:+0200
TZNAME:CEST
DTSTART:20240331T010000
END:DAYLIGHT
BEGIN:STANDARD
TZOFFSETFROM:+0200
TZOFFSETTO:+0100
TZNAME:CET
DTSTART:20241027T010000
END:STANDARD
END:VTIMEZONE
BEGIN:VEVENT
DTSTART;TZID=Europe/Madrid:20240915T200000
DTEND;TZID=Europe/Madrid:20240915T233000
DTSTAMP:20260419T232107
CREATED:20240405T201542Z
LAST-MODIFIED:20240405T201542Z
UID:148385-1726430400-1726443000@musicazul.com
SUMMARY:Fink
DESCRIPTION:ENTRADAS ANTICIPADAS
URL:https://musicazul.com/event/fink-valencia-jerusalem-domingo-15-septiembre-2024/
LOCATION:Jerusalem\, Calle del Convent de Jerusalem\, 55\, Extramurs\, Valencia\, Comunidad Valenciana\, 46007
ATTACH;FMTTYPE=image/jpeg:https://www.musicazul.com/wp-content/uploads/2024/04/fink05042024-.jpg
END:VEVENT
BEGIN:VEVENT
DTSTART;TZID=Europe/Madrid:20240915T193000
DTEND;TZID=Europe/Madrid:20240915T233000
DTSTAMP:20260419T232107
CREATED:20240315T174147Z
LAST-MODIFIED:20240315T174147Z
UID:147727-1726428600-1726443000@musicazul.com
SUMMARY:Residente
DESCRIPTION:ENTRADAS ANTICIPADAS
URL:https://musicazul.com/event/residente-madrid-wizink-center-domingo-15-septiembre-2024/
LOCATION:WiZink Center\, Avenida de Felipe II\, s/n\, Madrid\, Comunidad de Madrid\, 28009\, España
ATTACH;FMTTYPE=image/jpeg:https://www.musicazul.com/wp-content/uploads/2024/03/residente13032024-.jpg
END:VEVENT
BEGIN:VEVENT
DTSTART;TZID=Europe/Madrid:20240915T180000
DTEND;TZID=Europe/Madrid:20240915T233000
DTSTAMP:20260419T232107
CREATED:20240804T180210Z
LAST-MODIFIED:20240804T180210Z
UID:150846-1726423200-1726443000@musicazul.com
SUMMARY:Cordovas
DESCRIPTION:ENTRADAS ANTICIPADAS
URL:https://musicazul.com/event/cordovas-granada-lemon-rock-domingo-15-septiembre-2024/
LOCATION:Lemon Rock\, Calle Montalbán\, 6\, Granada\, Andalucía\, 18002\, España
ATTACH;FMTTYPE=image/jpeg:https://www.musicazul.com/wp-content/uploads/2024/08/cordovas04082024--1.jpg
END:VEVENT
BEGIN:VEVENT
DTSTART;TZID=Europe/Madrid:20240914T220000
DTEND;TZID=Europe/Madrid:20240914T233000
DTSTAMP:20260419T232107
CREATED:20240804T173633Z
LAST-MODIFIED:20240804T173633Z
UID:150830-1726351200-1726356600@musicazul.com
SUMMARY:Cordovas
DESCRIPTION:ENTRADAS ANTICIPADAS
URL:https://musicazul.com/event/cordovas-jerez-de-la-frontera-la-guarida-del-angel-sabado-14-septiembre-2024/
LOCATION:La Guarida del Ángel\, Calle Porvenir\, 1\, Jerez de la Frontera (Cádiz)\, Andalucía\, 11401\, España
ATTACH;FMTTYPE=image/jpeg:https://www.musicazul.com/wp-content/uploads/2024/08/cordovas04082024--1.jpg
END:VEVENT
BEGIN:VEVENT
DTSTART;TZID=Europe/Madrid:20240914T203000
DTEND;TZID=Europe/Madrid:20240914T233000
DTSTAMP:20260419T232107
CREATED:20240405T194551Z
LAST-MODIFIED:20240405T194551Z
UID:148383-1726345800-1726356600@musicazul.com
SUMMARY:Fink
DESCRIPTION:ENTRADAS ANTICIPADAS
URL:https://musicazul.com/event/fink-madrid-but-sabado-14-septiembre-2024/
LOCATION:But\, Calle Barceló\, 11\, Local B\, Centro\, Madrid\, Comunidad de Madrid\, 28004\, España
ATTACH;FMTTYPE=image/jpeg:https://www.musicazul.com/wp-content/uploads/2024/04/fink05042024-.jpg
END:VEVENT
BEGIN:VEVENT
DTSTART;TZID=Europe/Madrid:20240914T193000
DTEND;TZID=Europe/Madrid:20240914T233000
DTSTAMP:20260419T232107
CREATED:20240315T173736Z
LAST-MODIFIED:20240315T173736Z
UID:147725-1726342200-1726356600@musicazul.com
SUMMARY:Residente
DESCRIPTION:ENTRADAS ANTICIPADAS
URL:https://musicazul.com/event/residente-barcelona-palau-sant-jordi-sabado-14-septiembre-2024/
LOCATION:Palau Sant Jordi\, Passeig Olímpic\, 5-7\, Sants-Montjuïc\, Barcelona\, Catalunya\, España
ATTACH;FMTTYPE=image/jpeg:https://www.musicazul.com/wp-content/uploads/2024/03/residente13032024-.jpg
END:VEVENT
BEGIN:VEVENT
DTSTART;TZID=Europe/Madrid:20240913T200000
DTEND;TZID=Europe/Madrid:20240913T233000
DTSTAMP:20260419T232107
CREATED:20240804T173030Z
LAST-MODIFIED:20240804T173030Z
UID:150828-1726257600-1726270200@musicazul.com
SUMMARY:Cordovas
DESCRIPTION:ENTRADAS ANTICIPADAS
URL:https://musicazul.com/event/cordovas-madrid-copernico-viernes-13-septiembre-2024/
LOCATION:Copérnico\, Calle de Fernández de los Ríos\, 67\, Chamberí\, Madrid\, 28015\, España
ATTACH;FMTTYPE=image/jpeg:https://www.musicazul.com/wp-content/uploads/2024/08/cordovas04082024--1.jpg
END:VEVENT
BEGIN:VEVENT
DTSTART;TZID=Europe/Madrid:20240913T200000
DTEND;TZID=Europe/Madrid:20240913T233000
DTSTAMP:20260419T232107
CREATED:20240405T194129Z
LAST-MODIFIED:20240405T194129Z
UID:148380-1726257600-1726270200@musicazul.com
SUMMARY:Fink
DESCRIPTION:ENTRADAS ANTICIPADAS
URL:https://musicazul.com/event/fink-vigo-auditorio-municipal-concello-de-vigo-viernes-13-septiembre-2024/
LOCATION:Auditorio Municipal Concello de Vigo\, Praza do Rei\, 1\, Vigo\, Pontevedra\, Galicia\, 36202\, España
ATTACH;FMTTYPE=image/jpeg:https://www.musicazul.com/wp-content/uploads/2024/04/fink05042024-.jpg
END:VEVENT
BEGIN:VEVENT
DTSTART;TZID=Europe/Madrid:20240912T203000
DTEND;TZID=Europe/Madrid:20240912T233000
DTSTAMP:20260419T232107
CREATED:20240804T172734Z
LAST-MODIFIED:20240804T172734Z
UID:150826-1726173000-1726183800@musicazul.com
SUMMARY:Cordovas
DESCRIPTION:ENTRADAS ANTICIPADAS
URL:https://musicazul.com/event/cordovas-valencia-loco-club-jueves-12-septiembre-2024/
LOCATION:Loco Club\, Carrer de l'Erudit Orellana\, 12\, Extramurs\, Valencia\, Comunidad Valenciana\, 46008\, España
ATTACH;FMTTYPE=image/jpeg:https://www.musicazul.com/wp-content/uploads/2024/08/cordovas04082024--1.jpg
END:VEVENT
BEGIN:VEVENT
DTSTART;TZID=Europe/Madrid:20240911T200000
DTEND;TZID=Europe/Madrid:20240911T233000
DTSTAMP:20260419T232107
CREATED:20240804T172346Z
LAST-MODIFIED:20240804T172346Z
UID:150824-1726084800-1726097400@musicazul.com
SUMMARY:Cordovas
DESCRIPTION:ENTRADAS ANTICIPADAS
URL:https://musicazul.com/event/cordovas-barcelona-wolf-miercoles-11-septiembre-2024/
LOCATION:Wolf\, C/ dels Almogàvers\, 88\, Sant Martí\, Barcelona\, Catalunya\, 08018\, España
ATTACH;FMTTYPE=image/jpeg:https://www.musicazul.com/wp-content/uploads/2024/08/cordovas04082024--1.jpg
END:VEVENT
BEGIN:VEVENT
DTSTART;TZID=Europe/Madrid:20240910T200000
DTEND;TZID=Europe/Madrid:20240910T233000
DTSTAMP:20260419T232107
CREATED:20240517T084705Z
LAST-MODIFIED:20240517T084705Z
UID:149750-1725998400-1726011000@musicazul.com
SUMMARY:Luka Sulic
DESCRIPTION:ENTRADAS ANTICIPADAS
URL:https://musicazul.com/event/luka-sulic-barcelona-parallel-62-martes-10-septiembre-2024/
LOCATION:Paral·lel 62\, Avenida del Paral·lel\, 62\, Ciutat Vella\, Barcelona\, Barcelona\, 08001\, España
ATTACH;FMTTYPE=image/jpeg:https://www.musicazul.com/wp-content/uploads/2024/05/lukasulic17052024--1.jpg
END:VEVENT
BEGIN:VEVENT
DTSTART;TZID=Europe/Madrid:20240908T200000
DTEND;TZID=Europe/Madrid:20240908T233000
DTSTAMP:20260419T232107
CREATED:20240308T113449Z
LAST-MODIFIED:20240308T113449Z
UID:147485-1725825600-1725838200@musicazul.com
SUMMARY:Morad
DESCRIPTION:ENTRADAS ANTICIPADAS
URL:https://musicazul.com/event/morad-valencia-marina-norte-domingo-8-septiembre-2024/
LOCATION:Marina Norte\, Carrer de Moll de la Aduana\, s/n\, Poblats Maritims\, Valencia\, Comunidad Valenciana\, 46024\, España
ATTACH;FMTTYPE=image/jpeg:https://www.musicazul.com/wp-content/uploads/2024/03/morad08032024-.jpg
END:VEVENT
BEGIN:VEVENT
DTSTART;TZID=Europe/Madrid:20240905T190000
DTEND;TZID=Europe/Madrid:20240905T233000
DTSTAMP:20260419T232107
CREATED:20240214T170654Z
LAST-MODIFIED:20240813T160926Z
UID:151053-1725562800-1725579000@musicazul.com
SUMMARY:The Magnetics Fields
DESCRIPTION:ENTRADAS ANTICIPADAS
URL:https://musicazul.com/event/the-magnetics-fields-barcelona-parallel-62-jueves-5-septiembre-2024/
LOCATION:Paral·lel 62\, Avenida del Paral·lel\, 62\, Ciutat Vella\, Barcelona\, Barcelona\, 08001\, España
ATTACH;FMTTYPE=image/jpeg:https://www.musicazul.com/wp-content/uploads/2024/08/themagneticsfields2024-.jpg
END:VEVENT
BEGIN:VEVENT
DTSTART;TZID=Europe/Madrid:20240904T190000
DTEND;TZID=Europe/Madrid:20240904T233000
DTSTAMP:20260419T232107
CREATED:20240214T165309Z
LAST-MODIFIED:20240813T160615Z
UID:151049-1725476400-1725492600@musicazul.com
SUMMARY:The Magnetics Fields
DESCRIPTION:ENTRADAS ANTICIPADAS
URL:https://musicazul.com/event/the-magnetics-fields-barcelona-parallel-62-miercoles-4-septiembre-2024/
LOCATION:Paral·lel 62\, Avenida del Paral·lel\, 62\, Ciutat Vella\, Barcelona\, Barcelona\, 08001\, España
ATTACH;FMTTYPE=image/jpeg:https://www.musicazul.com/wp-content/uploads/2024/08/themagneticsfields2024-.jpg
END:VEVENT
BEGIN:VEVENT
DTSTART;TZID=Europe/Madrid:20240903T200000
DTEND;TZID=Europe/Madrid:20240903T233000
DTSTAMP:20260419T232107
CREATED:20240510T144809Z
LAST-MODIFIED:20240510T144809Z
UID:149445-1725393600-1725406200@musicazul.com
SUMMARY:Hollow Coves
DESCRIPTION:ENTRADAS ANTICIPADAS
URL:https://musicazul.com/event/hollow-coves-madrid-but-martes-3-septiembre-2024/
LOCATION:But\, Calle Barceló\, 11\, Local B\, Centro\, Madrid\, Comunidad de Madrid\, 28004\, España
ATTACH;FMTTYPE=image/jpeg:https://www.musicazul.com/wp-content/uploads/2024/05/hollowcoves10052024-.jpg
END:VEVENT
BEGIN:VEVENT
DTSTART;TZID=Europe/Madrid:20240902T190000
DTEND;TZID=Europe/Madrid:20240902T210000
DTSTAMP:20260419T232107
CREATED:20240502T083527Z
LAST-MODIFIED:20240502T083527Z
UID:149254-1725303600-1725310800@musicazul.com
SUMMARY:Russ
DESCRIPTION:ENTRADAS ANTICIPADAS
URL:https://musicazul.com/event/russ-madrid-la-riviera-lunes-2-septiembre-2024/
LOCATION:La Riviera\, Paseo Bajo de la Virgen del Puerto\, S/N\, Arganzuela\, Madrid\, Madrid\, 28005\, España
ATTACH;FMTTYPE=image/jpeg:https://www.musicazul.com/wp-content/uploads/2024/05/russ01052024-.jpg
END:VEVENT
BEGIN:VEVENT
DTSTART;TZID=Europe/Madrid:20240901T200000
DTEND;TZID=Europe/Madrid:20240901T233000
DTSTAMP:20260419T232107
CREATED:20240510T144304Z
LAST-MODIFIED:20240510T144304Z
UID:149443-1725220800-1725233400@musicazul.com
SUMMARY:Hollow Coves
DESCRIPTION:ENTRADAS ANTICIPADAS
URL:https://musicazul.com/event/hollow-coves-valencia-jerusalem-club-domino-1-septiembre-2024/
LOCATION:Jerusalem\, Calle del Convent de Jerusalem\, 55\, Extramurs\, Valencia\, Comunidad Valenciana\, 46007
ATTACH;FMTTYPE=image/jpeg:https://www.musicazul.com/wp-content/uploads/2024/05/hollowcoves10052024-.jpg
END:VEVENT
BEGIN:VEVENT
DTSTART;TZID=Europe/Madrid:20240831T180000
DTEND;TZID=Europe/Madrid:20240831T233000
DTSTAMP:20260419T232107
CREATED:20240507T173612Z
LAST-MODIFIED:20240507T174643Z
UID:149370-1725127200-1725147000@musicazul.com
SUMMARY:Xavier Rudd + Hollow Coves + Ramón Mirabet + Hayley Reardon
DESCRIPTION:ENTRADAS ANTICIPADAS
URL:https://musicazul.com/event/xavier-rudd-hollow-coves-ramon-mirabet-hayley-reardon-barcelona-poble-espanyol-sabado-31-agosto-2024/
LOCATION:Poble Espanyol\, Avenida de Francesc Ferrer i Guàrdia\, 13\, Sants-Montjuïc\, Barcelona\, Catalunya\, 08038\, España
ATTACH;FMTTYPE=image/jpeg:https://www.musicazul.com/wp-content/uploads/2024/05/xavierrudd07052024-.jpg
END:VEVENT
BEGIN:VEVENT
DTSTART;TZID=Europe/Madrid:20240829T233000
DTEND;TZID=Europe/Madrid:20240831T233000
DTSTAMP:20260419T232107
CREATED:20240430T132746Z
LAST-MODIFIED:20240430T132746Z
UID:149209-1724974200-1725147000@musicazul.com
SUMMARY:Kalorama Madrid
DESCRIPTION:ENTRADAS ANTICIPADAS
URL:https://musicazul.com/event/kalorama-madrid-ifema-29-30-31-agosto-2024/
LOCATION:IFEMA\, Av. del Partenón\, 5\, Barajas\, Madrid\, Comunidad de Madrid\, 28042\, España
ATTACH;FMTTYPE=image/jpeg:https://www.musicazul.com/wp-content/uploads/2024/04/kaloramamadrid-.jpg
END:VEVENT
BEGIN:VEVENT
DTSTART;TZID=Europe/Madrid:20240829T200000
DTEND;TZID=Europe/Madrid:20240829T233000
DTSTAMP:20260419T232107
CREATED:20240416T124001Z
LAST-MODIFIED:20240416T124001Z
UID:148687-1724961600-1724974200@musicazul.com
SUMMARY:Travis
DESCRIPTION:ENTRADAS ANTICIPADAS
URL:https://musicazul.com/event/travis-madrid-la-riviera-jueves-29-agosto-2024/
LOCATION:La Riviera\, Paseo Bajo de la Virgen del Puerto\, S/N\, Arganzuela\, Madrid\, Madrid\, 28005\, España
ATTACH;FMTTYPE=image/jpeg:https://www.musicazul.com/wp-content/uploads/2024/04/travis16042024-.jpg
END:VEVENT
BEGIN:VEVENT
DTSTART;TZID=Europe/Madrid:20240828T210000
DTEND;TZID=Europe/Madrid:20240828T233000
DTSTAMP:20260419T232107
CREATED:20240109T145752Z
LAST-MODIFIED:20240514T134309Z
UID:146235-1724878800-1724887800@musicazul.com
SUMMARY:The Smile + James Holden
DESCRIPTION:ENTRADAS ANTICIPADAS
URL:https://musicazul.com/event/the-smile-james-holden-valencia-marina-norte-miercoles-28-agosto-2024/
LOCATION:La Marina\, Poblados Marítimos\, Valencia\, Comunidad Valenciana\, 46011\, España
ATTACH;FMTTYPE=image/jpeg:https://www.musicazul.com/wp-content/uploads/2024/01/thesmile09012024-.jpg
END:VEVENT
BEGIN:VEVENT
DTSTART;TZID=Europe/Madrid:20240828T200000
DTEND;TZID=Europe/Madrid:20240828T233000
DTSTAMP:20260419T232107
CREATED:20240416T123443Z
LAST-MODIFIED:20240416T123443Z
UID:148685-1724875200-1724887800@musicazul.com
SUMMARY:Travis
DESCRIPTION:ENTRADAS ANTICIPADAS
URL:https://musicazul.com/event/travis-barcelona-razzmatazz-miercoles-28-agosto-2024/
LOCATION:Razzmatazz\, Carrer dels Almogàvers\, 122\, Sant Martí\, Barcelona\, Barcelona\, 08018\, España
ATTACH;FMTTYPE=image/jpeg:https://www.musicazul.com/wp-content/uploads/2024/04/travis16042024-.jpg
END:VEVENT
BEGIN:VEVENT
DTSTART;TZID=Europe/Madrid:20240824T170000
DTEND;TZID=Europe/Madrid:20240824T233000
DTSTAMP:20260419T232107
CREATED:20240326T203940Z
LAST-MODIFIED:20240326T203940Z
UID:147985-1724518800-1724542200@musicazul.com
SUMMARY:Sonorama Ribera Day 2024
DESCRIPTION:ENTRADAS ANTICIPADAS
URL:https://musicazul.com/event/sonorama-ribera-day-2024-santander-virgen-del-mar-sabado-24-agosto/
LOCATION:Virgen del Mar\, Virgen del Mar\, Santander\, Cantabria
ATTACH;FMTTYPE=image/jpeg:https://www.musicazul.com/wp-content/uploads/2022/08/kasabian02082022.jpg
END:VEVENT
BEGIN:VEVENT
DTSTART;TZID=Europe/Madrid:20240821T190000
DTEND;TZID=Europe/Madrid:20240824T233000
DTSTAMP:20260419T232107
CREATED:20240205T114022Z
LAST-MODIFIED:20240205T114022Z
UID:146639-1724266800-1724542200@musicazul.com
SUMMARY:CanelaParty 2024
DESCRIPTION:ENTRADAS ANTICIPADAS
URL:https://musicazul.com/event/canelaparty-2024-torremolinos-malaga-agosto-2024/
LOCATION:Recinto Ferial\, Autovía de Circunvalación de Málaga\, Torremolinos\, Málaga\, 29620\, España
ATTACH;FMTTYPE=image/jpeg:https://www.musicazul.com/wp-content/uploads/2024/02/canelaparty202405022024-.jpg
END:VEVENT
BEGIN:VEVENT
DTSTART;TZID=Europe/Madrid:20240814T190000
DTEND;TZID=Europe/Madrid:20240814T233000
DTSTAMP:20260419T232107
CREATED:20240326T205140Z
LAST-MODIFIED:20240326T205140Z
UID:147991-1723662000-1723678200@musicazul.com
SUMMARY:Gene Simmons Band + Obús
DESCRIPTION:ENTRADAS ANTICIPADAS
URL:https://musicazul.com/event/gene-simmons-band-obus-madrid-la-riviera-miercoles-14-agosto-2024/
LOCATION:La Riviera\, Paseo Bajo de la Virgen del Puerto\, S/N\, Arganzuela\, Madrid\, Madrid\, 28005\, España
ATTACH;FMTTYPE=image/jpeg:https://www.musicazul.com/wp-content/uploads/2024/03/genesimmons26032024-.jpg
END:VEVENT
BEGIN:VEVENT
DTSTART;TZID=Europe/Madrid:20240813T190000
DTEND;TZID=Europe/Madrid:20240813T233000
DTSTAMP:20260419T232107
CREATED:20240326T204652Z
LAST-MODIFIED:20240326T204652Z
UID:147988-1723575600-1723591800@musicazul.com
SUMMARY:Gene Simmons Band + Obús + Motörhits
DESCRIPTION:ENTRADAS ANTICIPADAS
URL:https://musicazul.com/event/gene-simmons-band-obus-motorhits-sant-feliu-de-guixols-girona-martes-13-agosto-2024/
LOCATION:Guíxols Arena\, Av. de Catalunya\, s/n\, Sant Feliu de Guíxols\, Girona\, Catalunya\, 17220\, España
ATTACH;FMTTYPE=image/jpeg:https://www.musicazul.com/wp-content/uploads/2024/03/genesimmons26032024-.jpg
END:VEVENT
BEGIN:VEVENT
DTSTART;TZID=Europe/Madrid:20240730T190000
DTEND;TZID=Europe/Madrid:20240730T233000
DTSTAMP:20260419T232107
CREATED:20240513T180742Z
LAST-MODIFIED:20240513T181138Z
UID:149552-1722366000-1722382200@musicazul.com
SUMMARY:Travis Scott
DESCRIPTION:ENTRADAS ANTICIPADAS
URL:https://musicazul.com/event/travis-scott-madrid-wizink-center-martes-30-julio-2024/
LOCATION:WiZink Center\, Avenida de Felipe II\, s/n\, Madrid\, Comunidad de Madrid\, 28009\, España
ATTACH;FMTTYPE=image/jpeg:https://www.musicazul.com/wp-content/uploads/2024/05/travisscott13052024-.jpg
END:VEVENT
BEGIN:VEVENT
DTSTART;TZID=Europe/Madrid:20240729T200000
DTEND;TZID=Europe/Madrid:20240729T233000
DTSTAMP:20260419T232107
CREATED:20240429T141110Z
LAST-MODIFIED:20240429T141110Z
UID:149169-1722283200-1722295800@musicazul.com
SUMMARY:Mon Laferte
DESCRIPTION:ENTRADAS ANTICIPADAS
URL:https://musicazul.com/event/mon-laferte-valencia-jardins-de-vivers-lunes-29-julio-2024/
LOCATION:Jardines de Viveros\, Cale de Cavanilles\, 1\, La Saïdia\, Valencia\, Comunidad Valenciana\, 46010\, España
ATTACH;FMTTYPE=image/jpeg:https://www.musicazul.com/wp-content/uploads/2024/04/monlaferte29042024-.jpg
END:VEVENT
BEGIN:VEVENT
DTSTART;TZID=Europe/Madrid:20240728T193000
DTEND;TZID=Europe/Madrid:20240728T233000
DTSTAMP:20260419T232107
CREATED:20240216T092057Z
LAST-MODIFIED:20240423T082413Z
UID:148932-1722195000-1722209400@musicazul.com
SUMMARY:Pixies
DESCRIPTION:ENTRADAS ANTICIPADAS
URL:https://musicazul.com/event/pixies-madrid-real-jardin-botanico-domingo-28-julio-2024/
LOCATION:Real Jardín Botánico Alfonso XIII\, Av. Complutense\, s/n\, Moncloa - Aravaca\, Madrid\, Comunidad de Madrid\, 28040\, España
ATTACH;FMTTYPE=image/jpeg:https://www.musicazul.com/wp-content/uploads/2022/08/pixies11082022.jpg
END:VEVENT
BEGIN:VEVENT
DTSTART;TZID=Europe/Madrid:20240727T190000
DTEND;TZID=Europe/Madrid:20240727T233000
DTSTAMP:20260419T232107
CREATED:20240408T141923Z
LAST-MODIFIED:20240408T141923Z
UID:148469-1722106800-1722123000@musicazul.com
SUMMARY:Feid
DESCRIPTION:ENTRADAS ANTICIPADAS
URL:https://musicazul.com/event/feid-madrid-estadio-civitas-metropolitano-sabado-27-julio-2024/
LOCATION:Estadio Cívitas Metropolitano\, Av. de Luis Aragonés\, 4\, San Blas-Canillejas\, Madrid\, Comunidad de Madrid\, 28022\, España
ATTACH;FMTTYPE=image/jpeg:https://www.musicazul.com/wp-content/uploads/2024/04/feid08042024-.jpg
END:VEVENT
END:VCALENDAR