BEGIN:VCALENDAR
VERSION:2.0
PRODID:-//https://musicazul.com - ECPv6.11.2.1//NONSGML v1.0//EN
CALSCALE:GREGORIAN
METHOD:PUBLISH
X-ORIGINAL-URL:https://musicazul.com
X-WR-CALDESC:Eventos para https://musicazul.com
REFRESH-INTERVAL;VALUE=DURATION:PT1H
X-Robots-Tag:noindex
X-PUBLISHED-TTL:PT1H
BEGIN:VTIMEZONE
TZID:Europe/Madrid
BEGIN:DAYLIGHT
TZOFFSETFROM:+0100
TZOFFSETTO:+0200
TZNAME:CEST
DTSTART:20240331T010000
END:DAYLIGHT
BEGIN:STANDARD
TZOFFSETFROM:+0200
TZOFFSETTO:+0100
TZNAME:CET
DTSTART:20241027T010000
END:STANDARD
END:VTIMEZONE
BEGIN:VEVENT
DTSTART;TZID=Europe/Madrid:20240813T190000
DTEND;TZID=Europe/Madrid:20240813T233000
DTSTAMP:20260420T011154
CREATED:20240326T204652Z
LAST-MODIFIED:20240326T204652Z
UID:147988-1723575600-1723591800@musicazul.com
SUMMARY:Gene Simmons Band + Obús + Motörhits
DESCRIPTION:ENTRADAS ANTICIPADAS
URL:https://musicazul.com/event/gene-simmons-band-obus-motorhits-sant-feliu-de-guixols-girona-martes-13-agosto-2024/
LOCATION:Guíxols Arena\, Av. de Catalunya\, s/n\, Sant Feliu de Guíxols\, Girona\, Catalunya\, 17220\, España
ATTACH;FMTTYPE=image/jpeg:https://www.musicazul.com/wp-content/uploads/2024/03/genesimmons26032024-.jpg
END:VEVENT
BEGIN:VEVENT
DTSTART;TZID=Europe/Madrid:20240730T190000
DTEND;TZID=Europe/Madrid:20240730T233000
DTSTAMP:20260420T011154
CREATED:20240513T180742Z
LAST-MODIFIED:20240513T181138Z
UID:149552-1722366000-1722382200@musicazul.com
SUMMARY:Travis Scott
DESCRIPTION:ENTRADAS ANTICIPADAS
URL:https://musicazul.com/event/travis-scott-madrid-wizink-center-martes-30-julio-2024/
LOCATION:WiZink Center\, Avenida de Felipe II\, s/n\, Madrid\, Comunidad de Madrid\, 28009\, España
ATTACH;FMTTYPE=image/jpeg:https://www.musicazul.com/wp-content/uploads/2024/05/travisscott13052024-.jpg
END:VEVENT
BEGIN:VEVENT
DTSTART;TZID=Europe/Madrid:20240729T200000
DTEND;TZID=Europe/Madrid:20240729T233000
DTSTAMP:20260420T011154
CREATED:20240429T141110Z
LAST-MODIFIED:20240429T141110Z
UID:149169-1722283200-1722295800@musicazul.com
SUMMARY:Mon Laferte
DESCRIPTION:ENTRADAS ANTICIPADAS
URL:https://musicazul.com/event/mon-laferte-valencia-jardins-de-vivers-lunes-29-julio-2024/
LOCATION:Jardines de Viveros\, Cale de Cavanilles\, 1\, La Saïdia\, Valencia\, Comunidad Valenciana\, 46010\, España
ATTACH;FMTTYPE=image/jpeg:https://www.musicazul.com/wp-content/uploads/2024/04/monlaferte29042024-.jpg
END:VEVENT
BEGIN:VEVENT
DTSTART;TZID=Europe/Madrid:20240728T193000
DTEND;TZID=Europe/Madrid:20240728T233000
DTSTAMP:20260420T011154
CREATED:20240216T092057Z
LAST-MODIFIED:20240423T082413Z
UID:148932-1722195000-1722209400@musicazul.com
SUMMARY:Pixies
DESCRIPTION:ENTRADAS ANTICIPADAS
URL:https://musicazul.com/event/pixies-madrid-real-jardin-botanico-domingo-28-julio-2024/
LOCATION:Real Jardín Botánico Alfonso XIII\, Av. Complutense\, s/n\, Moncloa - Aravaca\, Madrid\, Comunidad de Madrid\, 28040\, España
ATTACH;FMTTYPE=image/jpeg:https://www.musicazul.com/wp-content/uploads/2022/08/pixies11082022.jpg
END:VEVENT
BEGIN:VEVENT
DTSTART;TZID=Europe/Madrid:20240727T190000
DTEND;TZID=Europe/Madrid:20240727T233000
DTSTAMP:20260420T011154
CREATED:20240408T141923Z
LAST-MODIFIED:20240408T141923Z
UID:148469-1722106800-1722123000@musicazul.com
SUMMARY:Feid
DESCRIPTION:ENTRADAS ANTICIPADAS
URL:https://musicazul.com/event/feid-madrid-estadio-civitas-metropolitano-sabado-27-julio-2024/
LOCATION:Estadio Cívitas Metropolitano\, Av. de Luis Aragonés\, 4\, San Blas-Canillejas\, Madrid\, Comunidad de Madrid\, 28022\, España
ATTACH;FMTTYPE=image/jpeg:https://www.musicazul.com/wp-content/uploads/2024/04/feid08042024-.jpg
END:VEVENT
BEGIN:VEVENT
DTSTART;TZID=Europe/Madrid:20240726T200000
DTEND;TZID=Europe/Madrid:20240726T233000
DTSTAMP:20260420T011154
CREATED:20240603T173631Z
LAST-MODIFIED:20240603T173839Z
UID:150204-1722024000-1722036600@musicazul.com
SUMMARY:Mon Laferte
DESCRIPTION:ENTRADAS ANTICIPADAS
URL:https://musicazul.com/event/mon-laferte-madrid-la-riviera-viernes-26-julio-2024/
LOCATION:La Riviera\, Paseo Bajo de la Virgen del Puerto\, S/N\, Arganzuela\, Madrid\, Madrid\, 28005\, España
ATTACH;FMTTYPE=image/jpeg:https://www.musicazul.com/wp-content/uploads/2024/04/monlaferte29042024-.jpg
END:VEVENT
BEGIN:VEVENT
DTSTART;TZID=Europe/Madrid:20240726T190000
DTEND;TZID=Europe/Madrid:20240726T233000
DTSTAMP:20260420T011154
CREATED:20240207T105112Z
LAST-MODIFIED:20240207T105112Z
UID:146736-1722020400-1722036600@musicazul.com
SUMMARY:Ziggy Alberts
DESCRIPTION:ENTRADAS ANTICIPADAS
URL:https://musicazul.com/event/ziggy-alberts-madrid-but-viernes-26-julio-2024/
LOCATION:But\, Calle Barceló\, 11\, Local B\, Centro\, Madrid\, Comunidad de Madrid\, 28004\, España
ATTACH;FMTTYPE=image/jpeg:https://www.musicazul.com/wp-content/uploads/2024/02/ziggyalberts06022024-.jpg
END:VEVENT
BEGIN:VEVENT
DTSTART;TZID=Europe/Madrid:20240725T200000
DTEND;TZID=Europe/Madrid:20240725T233000
DTSTAMP:20260420T011154
CREATED:20240429T135945Z
LAST-MODIFIED:20240429T135945Z
UID:149167-1721937600-1721950200@musicazul.com
SUMMARY:Mon Laferte
DESCRIPTION:ENTRADAS ANTICIPADAS
URL:https://musicazul.com/event/mon-laferte-madrid-la-riviera-jueves-25-julio-2024/
LOCATION:La Riviera\, Paseo Bajo de la Virgen del Puerto\, S/N\, Arganzuela\, Madrid\, Madrid\, 28005\, España
ATTACH;FMTTYPE=image/jpeg:https://www.musicazul.com/wp-content/uploads/2024/04/monlaferte29042024-.jpg
END:VEVENT
BEGIN:VEVENT
DTSTART;TZID=Europe/Madrid:20240725T190000
DTEND;TZID=Europe/Madrid:20240725T233000
DTSTAMP:20260420T011154
CREATED:20240207T104620Z
LAST-MODIFIED:20240207T104620Z
UID:146734-1721934000-1721950200@musicazul.com
SUMMARY:Ziggy Alberts
DESCRIPTION:ENTRADAS ANTICIPADAS
URL:https://musicazul.com/event/ziggy-alberts-barcelona-apolo-jueves-25-julio-2024/
LOCATION:Apolo\, Carrer Nou de la Rambla\, 113\, Sants-Montjuïc\, Barcelona\, Catalunya\, 08004\, España
ATTACH;FMTTYPE=image/jpeg:https://www.musicazul.com/wp-content/uploads/2024/02/ziggyalberts06022024-.jpg
END:VEVENT
BEGIN:VEVENT
DTSTART;TZID=Europe/Madrid:20240724T200000
DTEND;TZID=Europe/Madrid:20240724T233000
DTSTAMP:20260420T011154
CREATED:20240216T091231Z
LAST-MODIFIED:20240423T082004Z
UID:148930-1721851200-1721863800@musicazul.com
SUMMARY:Pixies
DESCRIPTION:ENTRADAS ANTICIPADAS
URL:https://musicazul.com/event/pixies-barcelona-razzmatazz-miercoles-24-julio-2024/
LOCATION:Razzmatazz\, Carrer dels Almogàvers\, 122\, Sant Martí\, Barcelona\, Barcelona\, 08018\, España
ATTACH;FMTTYPE=image/jpeg:https://www.musicazul.com/wp-content/uploads/2022/08/pixies11082022.jpg
END:VEVENT
BEGIN:VEVENT
DTSTART;TZID=Europe/Madrid:20240723T200000
DTEND;TZID=Europe/Madrid:20240723T233000
DTSTAMP:20260420T011154
CREATED:20240429T134102Z
LAST-MODIFIED:20240429T134102Z
UID:149165-1721764800-1721777400@musicazul.com
SUMMARY:Mon Laferte
DESCRIPTION:ENTRADAS ANTICIPADAS
URL:https://musicazul.com/event/mon-laferte-barcelona-razzmatazz-martes-23-julio-2024/
LOCATION:Razzmatazz\, Carrer dels Almogàvers\, 122\, Sant Martí\, Barcelona\, Barcelona\, 08018\, España
ATTACH;FMTTYPE=image/jpeg:https://www.musicazul.com/wp-content/uploads/2024/04/monlaferte29042024-.jpg
END:VEVENT
BEGIN:VEVENT
DTSTART;TZID=Europe/Madrid:20240721T190000
DTEND;TZID=Europe/Madrid:20240721T233000
DTSTAMP:20260420T011154
CREATED:20240429T131631Z
LAST-MODIFIED:20240429T131631Z
UID:149161-1721588400-1721604600@musicazul.com
SUMMARY:Mon Laferte
DESCRIPTION:ENTRADAS ANTICIPADAS
URL:https://musicazul.com/event/mon-laferte-fuengirola-marenostrum-domingo-21-julio-2024/
LOCATION:Marenostrum\, Paseo Marítimo Rey de España\, Fuengirola\, Málaga\, 29640\, España
ATTACH;FMTTYPE=image/jpeg:https://www.musicazul.com/wp-content/uploads/2024/04/monlaferte29042024-.jpg
END:VEVENT
BEGIN:VEVENT
DTSTART;TZID=Europe/Madrid:20240716T193000
DTEND;TZID=Europe/Madrid:20240716T233000
DTSTAMP:20260420T011154
CREATED:20240322T123037Z
LAST-MODIFIED:20240322T123037Z
UID:147888-1721158200-1721172600@musicazul.com
SUMMARY:Royal Blood
DESCRIPTION:ENTRADAS ANTICIPADAS
URL:https://musicazul.com/event/royal-blood-madrid-la-riviera-martes-16-julio-2024/
LOCATION:La Riviera\, Paseo Bajo de la Virgen del Puerto\, S/N\, Arganzuela\, Madrid\, Madrid\, 28005\, España
ATTACH;FMTTYPE=image/jpeg:https://www.musicazul.com/wp-content/uploads/2023/05/royalblood26052023-.jpg
END:VEVENT
BEGIN:VEVENT
DTSTART;TZID=Europe/Madrid:20240715T193000
DTEND;TZID=Europe/Madrid:20240715T233000
DTSTAMP:20260420T011154
CREATED:20240322T122606Z
LAST-MODIFIED:20240322T122606Z
UID:147886-1721071800-1721086200@musicazul.com
SUMMARY:Royal Blood
DESCRIPTION:ENTRADAS ANTICIPADAS
URL:https://musicazul.com/event/royal-blood-barcelona-razzmatazz-lunes-15-julio-2024/
LOCATION:Razzmatazz\, Carrer dels Almogàvers\, 122\, Sant Martí\, Barcelona\, Barcelona\, 08018\, España
ATTACH;FMTTYPE=image/jpeg:https://www.musicazul.com/wp-content/uploads/2023/05/royalblood26052023-.jpg
END:VEVENT
BEGIN:VEVENT
DTSTART;TZID=Europe/Madrid:20240714T180000
DTEND;TZID=Europe/Madrid:20240714T233000
DTSTAMP:20260420T011154
CREATED:20240425T102312Z
LAST-MODIFIED:20240425T102312Z
UID:149022-1720980000-1720999800@musicazul.com
SUMMARY:Metallica + Five Finger Death Punch + Ice Nine Kills
DESCRIPTION:ENTRADAS ANTICIPADAS
URL:https://musicazul.com/event/metallica-five-finger-death-punch-ice-nine-kills-madrid-domingo-14-julio-2024/
LOCATION:Estadio Cívitas Metropolitano\, Av. de Luis Aragonés\, 4\, San Blas-Canillejas\, Madrid\, Comunidad de Madrid\, 28022\, España
ATTACH;FMTTYPE=image/jpeg:https://www.musicazul.com/wp-content/uploads/2022/11/metallica29112022.jpg
END:VEVENT
BEGIN:VEVENT
DTSTART;TZID=Europe/Madrid:20240713T200000
DTEND;TZID=Europe/Madrid:20240713T233000
DTSTAMP:20260420T011154
CREATED:20240425T100732Z
LAST-MODIFIED:20240425T100732Z
UID:149018-1720900800-1720913400@musicazul.com
SUMMARY:Ice Nine Kills
DESCRIPTION:ENTRADAS ANTICIPADAS
URL:https://musicazul.com/event/ice-nine-kills-barcelona-apolo-sabado-13-julio-2024/
LOCATION:Apolo\, Carrer Nou de la Rambla\, 113\, Sants-Montjuïc\, Barcelona\, Catalunya\, 08004\, España
ATTACH;FMTTYPE=image/jpeg:https://www.musicazul.com/wp-content/uploads/2024/04/iceninekills25042024-.jpg
END:VEVENT
BEGIN:VEVENT
DTSTART;TZID=Europe/Madrid:20240713T180000
DTEND;TZID=Europe/Madrid:20240713T233000
DTSTAMP:20260420T011154
CREATED:20240328T191659Z
LAST-MODIFIED:20240328T192153Z
UID:148084-1720893600-1720913400@musicazul.com
SUMMARY:Bilbao BBK Live
DESCRIPTION:ENTRADAS ANTICIPADAS
URL:https://musicazul.com/event/bilbao-bbk-live-bilbao-kobetamendi-sabado-13-julio-2024/
LOCATION:Kobetamendi\, Kobetamendi parkea\, Basurtu-Zorrotza\,\, Bilbao\, País Vasco\, 48002\, España
ATTACH;FMTTYPE=image/jpeg:https://www.musicazul.com/wp-content/uploads/2024/03/bilbaobbklive2024-.jpg
END:VEVENT
BEGIN:VEVENT
DTSTART;TZID=Europe/Madrid:20240713T180000
DTEND;TZID=Europe/Madrid:20240713T233000
DTSTAMP:20260420T011154
CREATED:20231226T160957Z
LAST-MODIFIED:20240102T181455Z
UID:145987-1720893600-1720913400@musicazul.com
SUMMARY:O Gozo Festival
DESCRIPTION:ENTRADAS ANTICIPADAS
URL:https://musicazul.com/event/o-gozo-festival-santiago-de-compostela-monte-do-gozo-sabado-13-julio-2024/
LOCATION:Monte do Gozo\, Rúa do Gozo\, 1\, Santiago de Compostela\, Galicia\, 15703\, España
ATTACH;FMTTYPE=image/jpeg:https://www.musicazul.com/wp-content/uploads/2023/12/ogozofestival26122023-.jpg
END:VEVENT
BEGIN:VEVENT
DTSTART;TZID=Europe/Madrid:20240712T180000
DTEND;TZID=Europe/Madrid:20240712T233000
DTSTAMP:20260420T011154
CREATED:20240328T190628Z
LAST-MODIFIED:20240328T190628Z
UID:148082-1720807200-1720827000@musicazul.com
SUMMARY:Bilbao BBK Live
DESCRIPTION:ENTRADAS ANTICIPADAS
URL:https://musicazul.com/event/bilbao-bbk-live-bilbao-kobetamendi-viernes-12-julio-2024/
LOCATION:Kobetamendi\, Kobetamendi parkea\, Basurtu-Zorrotza\,\, Bilbao\, País Vasco\, 48002\, España
ATTACH;FMTTYPE=image/jpeg:https://www.musicazul.com/wp-content/uploads/2024/03/bilbaobbklive2024-.jpg
END:VEVENT
BEGIN:VEVENT
DTSTART;TZID=Europe/Madrid:20240712T180000
DTEND;TZID=Europe/Madrid:20240712T233000
DTSTAMP:20260420T011154
CREATED:20221129T111304Z
LAST-MODIFIED:20240425T102324Z
UID:149020-1720807200-1720827000@musicazul.com
SUMMARY:Metallica + Architects + Mammoth WVH
DESCRIPTION:ENTRADAS ANTICIPADAS
URL:https://musicazul.com/event/metallica-architects-mammoth-wvh-madrid-viernes-12-julio-2024/
LOCATION:Estadio Cívitas Metropolitano\, Av. de Luis Aragonés\, 4\, San Blas-Canillejas\, Madrid\, Comunidad de Madrid\, 28022\, España
ATTACH;FMTTYPE=image/jpeg:https://www.musicazul.com/wp-content/uploads/2022/11/metallica29112022.jpg
END:VEVENT
BEGIN:VEVENT
DTSTART;TZID=Europe/Madrid:20240712T060000
DTEND;TZID=Europe/Madrid:20240714T233000
DTSTAMP:20260420T011154
CREATED:20240101T154853Z
LAST-MODIFIED:20240518T145707Z
UID:149796-1720764000-1720999800@musicazul.com
SUMMARY:Planeta Sound 2024
DESCRIPTION:ENTRADAS ANTICIPADAS
URL:https://musicazul.com/event/planeta-sound-2024/
LOCATION:Parque del Oeste\, Calle R-1\, 1\,\, Ponferrada (León)\, Castilla y León\, 24400\, España
ATTACH;FMTTYPE=image/jpeg:https://www.musicazul.com/wp-content/uploads/2024/05/planetasound2024-.jpg
END:VEVENT
BEGIN:VEVENT
DTSTART;TZID=Europe/Madrid:20240711T193000
DTEND;TZID=Europe/Madrid:20240711T233000
DTSTAMP:20260420T011154
CREATED:20240131T210032Z
LAST-MODIFIED:20240330T210510Z
UID:148176-1720726200-1720740600@musicazul.com
SUMMARY:The Breeders
DESCRIPTION:ENTRADAS ANTICIPADAS
URL:https://musicazul.com/event/the-breeders-barcelona-razzmatazz-jueves-11-julio-2024/
LOCATION:Razzmatazz\, Carrer dels Almogàvers\, 122\, Sant Martí\, Barcelona\, Barcelona\, 08018\, España
ATTACH;FMTTYPE=image/jpeg:https://www.musicazul.com/wp-content/uploads/2024/01/thebreeders31012024-.jpg
END:VEVENT
BEGIN:VEVENT
DTSTART;TZID=Europe/Madrid:20240711T180000
DTEND;TZID=Europe/Madrid:20240711T233000
DTSTAMP:20260420T011154
CREATED:20240328T190057Z
LAST-MODIFIED:20240328T190057Z
UID:148078-1720720800-1720740600@musicazul.com
SUMMARY:Bilbao BBK Live
DESCRIPTION:ENTRADAS ANTICIPADAS
URL:https://musicazul.com/event/bilbao-bbk-live-bilbao-jueves-11-julio-2024/
LOCATION:Kobetamendi\, Kobetamendi parkea\, Basurtu-Zorrotza\,\, Bilbao\, País Vasco\, 48002\, España
ATTACH;FMTTYPE=image/jpeg:https://www.musicazul.com/wp-content/uploads/2024/03/bilbaobbklive2024-.jpg
END:VEVENT
BEGIN:VEVENT
DTSTART;TZID=Europe/Madrid:20240710T200000
DTEND;TZID=Europe/Madrid:20240710T200000
DTSTAMP:20260420T011154
CREATED:20240415T210738Z
LAST-MODIFIED:20240415T210738Z
UID:148650-1720641600-1720641600@musicazul.com
SUMMARY:Mando Diao
DESCRIPTION:ENTRADAS ANTICIPADAS
URL:https://musicazul.com/event/mando-diao-barcelona-apolo-miercoles-10-julio-2024/
LOCATION:Apolo\, Carrer Nou de la Rambla\, 113\, Sants-Montjuïc\, Barcelona\, Catalunya\, 08004\, España
ATTACH;FMTTYPE=image/jpeg:https://www.musicazul.com/wp-content/uploads/2023/05/mandodiao20052023.jpg
END:VEVENT
BEGIN:VEVENT
DTSTART;TZID=Europe/Madrid:20240709T200000
DTEND;TZID=Europe/Madrid:20240709T233000
DTSTAMP:20260420T011154
CREATED:20240523T160634Z
LAST-MODIFIED:20240523T160634Z
UID:149918-1720555200-1720567800@musicazul.com
SUMMARY:Escape The Fate + Stitched Up Heart
DESCRIPTION:ENTRADAS ANTICIPADAS
URL:https://musicazul.com/event/escape-the-fate-stitched-up-heart-barcelona-parallel62-martes-9-julio-2024/
LOCATION:Paral·lel 62\, Avenida del Paral·lel\, 62\, Ciutat Vella\, Barcelona\, Barcelona\, 08001\, España
ATTACH;FMTTYPE=image/jpeg:https://www.musicazul.com/wp-content/uploads/2024/05/escapethefate23052024-.jpg
END:VEVENT
BEGIN:VEVENT
DTSTART;TZID=Europe/Madrid:20240709T200000
DTEND;TZID=Europe/Madrid:20240709T233000
DTSTAMP:20260420T011154
CREATED:20240305T120108Z
LAST-MODIFIED:20240305T120108Z
UID:147407-1720555200-1720567800@musicazul.com
SUMMARY:Garbage
DESCRIPTION:ENTRADAS ANTICIPADAS
URL:https://musicazul.com/event/garbage-barcelona-razzmatazz-martes-9-julio-2024/
LOCATION:Razzmatazz\, Carrer dels Almogàvers\, 122\, Sant Martí\, Barcelona\, Barcelona\, 08018\, España
ATTACH;FMTTYPE=image/jpeg:https://www.musicazul.com/wp-content/uploads/2024/03/garbage05032024-.jpg
END:VEVENT
BEGIN:VEVENT
DTSTART;TZID=Europe/Madrid:20240709T190000
DTEND;TZID=Europe/Madrid:20240709T233000
DTSTAMP:20260420T011154
CREATED:20240424T123626Z
LAST-MODIFIED:20240424T123626Z
UID:148989-1720551600-1720567800@musicazul.com
SUMMARY:Nothing But Thieves + Patricia Lint
DESCRIPTION:ENTRADAS ANTICIPADAS
URL:https://musicazul.com/event/nothing-but-thieves-madrid-la-riviera-martes-9-julio-2024/
LOCATION:La Riviera\, Paseo Bajo de la Virgen del Puerto\, S/N\, Arganzuela\, Madrid\, Madrid\, 28005\, España
ATTACH;FMTTYPE=image/jpeg:https://www.musicazul.com/wp-content/uploads/2023/03/nothingbutthieves17032023.jpg
END:VEVENT
BEGIN:VEVENT
DTSTART;TZID=Europe/Madrid:20240708T200000
DTEND;TZID=Europe/Madrid:20240708T233000
DTSTAMP:20260420T011154
CREATED:20240523T160153Z
LAST-MODIFIED:20240523T160153Z
UID:149916-1720468800-1720481400@musicazul.com
SUMMARY:Escape The Fate + Stitched Up Heart
DESCRIPTION:ENTRADAS ANTICIPADAS
URL:https://musicazul.com/event/escape-the-fate-stitched-up-heart-madrid-la-riviera-lunes-8-julio-2024/
LOCATION:La Riviera\, Paseo Bajo de la Virgen del Puerto\, S/N\, Arganzuela\, Madrid\, Madrid\, 28005\, España
ATTACH;FMTTYPE=image/jpeg:https://www.musicazul.com/wp-content/uploads/2024/05/escapethefate23052024-.jpg
END:VEVENT
BEGIN:VEVENT
DTSTART;TZID=Europe/Madrid:20240708T190000
DTEND;TZID=Europe/Madrid:20240708T233000
DTSTAMP:20260420T011154
CREATED:20240216T185849Z
LAST-MODIFIED:20240226T190404Z
UID:147200-1720465200-1720481400@musicazul.com
SUMMARY:Pearl Jam
DESCRIPTION:ENTRADAS ANTICIPADAS
URL:https://musicazul.com/event/pearl-jam-barcelona-palau-sant-jordi-lunes-8-julio-2024/
LOCATION:Palau Sant Jordi\, Passeig Olímpic\, 5-7\, Sants-Montjuïc\, Barcelona\, Catalunya\, España
ATTACH;FMTTYPE=image/jpeg:https://www.musicazul.com/wp-content/uploads/2024/02/pearljam16022024-.jpg
END:VEVENT
BEGIN:VEVENT
DTSTART;TZID=Europe/Madrid:20240706T190000
DTEND;TZID=Europe/Madrid:20240706T233000
DTSTAMP:20260420T011154
CREATED:20240216T184959Z
LAST-MODIFIED:20240226T185529Z
UID:147198-1720292400-1720308600@musicazul.com
SUMMARY:Pearl Jam
DESCRIPTION:ENTRADAS ANTICIPADAS
URL:https://musicazul.com/event/pearl-jam-barcelona-palau-sant-jordi-sabado-6-julio-2024/
LOCATION:Palau Sant Jordi\, Passeig Olímpic\, 5-7\, Sants-Montjuïc\, Barcelona\, Catalunya\, España
ATTACH;FMTTYPE=image/jpeg:https://www.musicazul.com/wp-content/uploads/2024/02/pearljam16022024-.jpg
END:VEVENT
END:VCALENDAR