BEGIN:VCALENDAR
VERSION:2.0
PRODID:-//https://musicazul.com - ECPv6.11.2.1//NONSGML v1.0//EN
CALSCALE:GREGORIAN
METHOD:PUBLISH
X-ORIGINAL-URL:https://musicazul.com
X-WR-CALDESC:Eventos para https://musicazul.com
REFRESH-INTERVAL;VALUE=DURATION:PT1H
X-Robots-Tag:noindex
X-PUBLISHED-TTL:PT1H
BEGIN:VTIMEZONE
TZID:Europe/Madrid
BEGIN:DAYLIGHT
TZOFFSETFROM:+0100
TZOFFSETTO:+0200
TZNAME:CEST
DTSTART:20240331T010000
END:DAYLIGHT
BEGIN:STANDARD
TZOFFSETFROM:+0200
TZOFFSETTO:+0100
TZNAME:CET
DTSTART:20241027T010000
END:STANDARD
END:VTIMEZONE
BEGIN:VEVENT
DTSTART;TZID=Europe/Madrid:20240616T193000
DTEND;TZID=Europe/Madrid:20240616T233000
DTSTAMP:20260420T044651
CREATED:20240304T213105Z
LAST-MODIFIED:20240331T203409Z
UID:148274-1718566200-1718580600@musicazul.com
SUMMARY:Los Zigarros + The Jayhawks
DESCRIPTION:ENTRADAS ANTICIPADAS
URL:https://musicazul.com/event/los-zigarros-the-jayhawks-madrid-domingo-16-junio-2024/
LOCATION:Real Jardín Botánico Alfonso XIII\, Av. Complutense\, s/n\, Moncloa - Aravaca\, Madrid\, Comunidad de Madrid\, 28040\, España
ATTACH;FMTTYPE=image/jpeg:https://www.musicazul.com/wp-content/uploads/2024/03/nochesdelbotanico2024-.jpg
END:VEVENT
BEGIN:VEVENT
DTSTART;TZID=Europe/Madrid:20240615T193000
DTEND;TZID=Europe/Madrid:20240615T233000
DTSTAMP:20260420T044651
CREATED:20240304T212426Z
LAST-MODIFIED:20240331T202835Z
UID:148272-1718479800-1718494200@musicazul.com
SUMMARY:Status Quo
DESCRIPTION:ENTRADAS ANTICIPADAS
URL:https://musicazul.com/event/status-quo-madrid-sabado-15-junio-2024/
LOCATION:Real Jardín Botánico Alfonso XIII\, Av. Complutense\, s/n\, Moncloa - Aravaca\, Madrid\, Comunidad de Madrid\, 28040\, España
ATTACH;FMTTYPE=image/jpeg:https://www.musicazul.com/wp-content/uploads/2024/03/nochesdelbotanico2024-.jpg
END:VEVENT
BEGIN:VEVENT
DTSTART;TZID=Europe/Madrid:20240614T193000
DTEND;TZID=Europe/Madrid:20240614T233000
DTSTAMP:20260420T044651
CREATED:20240304T211715Z
LAST-MODIFIED:20240331T202106Z
UID:148270-1718393400-1718407800@musicazul.com
SUMMARY:Estrella Morente + Soleá Morente
DESCRIPTION:ENTRADAS ANTICIPADAS
URL:https://musicazul.com/event/estrella-morente-solea-morente-madrid-viernes-14-junio-2024/
LOCATION:Real Jardín Botánico Alfonso XIII\, Av. Complutense\, s/n\, Moncloa - Aravaca\, Madrid\, Comunidad de Madrid\, 28040\, España
ATTACH;FMTTYPE=image/jpeg:https://www.musicazul.com/wp-content/uploads/2024/03/nochesdelbotanico2024-.jpg
END:VEVENT
BEGIN:VEVENT
DTSTART;TZID=Europe/Madrid:20240614T080000
DTEND;TZID=Europe/Madrid:20240614T170000
DTSTAMP:20260420T044651
CREATED:20240315T161815Z
LAST-MODIFIED:20240315T161815Z
UID:147716-1718352000-1718384400@musicazul.com
SUMMARY:Rival Sons
DESCRIPTION:ENTRADAS ANTICIPADAS
URL:https://musicazul.com/event/rival-sons-burgos-anden-56-viernes-14-junio-2024/
LOCATION:Andén 56\, Calle San Pedro y San Felices\, 56\, Burgos\, Castilla y León\, 09001\, España
ATTACH;FMTTYPE=image/jpeg:https://www.musicazul.com/wp-content/uploads/2024/03/rivalsons15032024-.jpg
END:VEVENT
BEGIN:VEVENT
DTSTART;TZID=Europe/Madrid:20240613T200000
DTEND;TZID=Europe/Madrid:20240613T233000
DTSTAMP:20260420T044651
CREATED:20240511T155159Z
LAST-MODIFIED:20240511T155159Z
UID:149494-1718308800-1718321400@musicazul.com
SUMMARY:The Bug Club
DESCRIPTION:ENTRADAS ANTICIPADAS
URL:https://musicazul.com/event/the-bug-club-barcelona-vol-jueves-13-junio-2024/
LOCATION:Vol\, Calle de Sancho de Ávila\, 78\, Sant Martí\, Barcelona\, Catalunya\, 08018\, España
ATTACH;FMTTYPE=image/jpeg:https://www.musicazul.com/wp-content/uploads/2024/05/thebugclub11052024-.jpg
END:VEVENT
BEGIN:VEVENT
DTSTART;TZID=Europe/Madrid:20240613T193000
DTEND;TZID=Europe/Madrid:20240613T233000
DTSTAMP:20260420T044651
CREATED:20240315T161316Z
LAST-MODIFIED:20240315T161316Z
UID:147714-1718307000-1718321400@musicazul.com
SUMMARY:Rival Sons
DESCRIPTION:ENTRADAS ANTICIPADAS
URL:https://musicazul.com/event/rival-sons-madrid-la-riviera-jueves-13-junio-2024/
LOCATION:La Riviera\, Paseo Bajo de la Virgen del Puerto\, S/N\, Arganzuela\, Madrid\, Madrid\, 28005\, España
ATTACH;FMTTYPE=image/jpeg:https://www.musicazul.com/wp-content/uploads/2024/03/rivalsons15032024-.jpg
END:VEVENT
BEGIN:VEVENT
DTSTART;TZID=Europe/Madrid:20240613T193000
DTEND;TZID=Europe/Madrid:20240613T233000
DTSTAMP:20260420T044651
CREATED:20240304T211300Z
LAST-MODIFIED:20240331T201552Z
UID:148268-1718307000-1718321400@musicazul.com
SUMMARY:Mikel Izal + Pau Corea
DESCRIPTION:ENTRADAS ANTICIPADAS
URL:https://musicazul.com/event/mikel-izal-pau-corea-madrid-jueves-13-junio-2024/
LOCATION:Real Jardín Botánico Alfonso XIII\, Av. Complutense\, s/n\, Moncloa - Aravaca\, Madrid\, Comunidad de Madrid\, 28040\, España
ATTACH;FMTTYPE=image/jpeg:https://www.musicazul.com/wp-content/uploads/2024/03/nochesdelbotanico2024-.jpg
END:VEVENT
BEGIN:VEVENT
DTSTART;TZID=Europe/Madrid:20240612T213000
DTEND;TZID=Europe/Madrid:20240612T233000
DTSTAMP:20260420T044651
CREATED:20240511T154803Z
LAST-MODIFIED:20240511T154803Z
UID:149492-1718227800-1718235000@musicazul.com
SUMMARY:The Bug Club
DESCRIPTION:ENTRADAS ANTICIPADAS
URL:https://musicazul.com/event/the-bug-club-madrid-siroco-madrid-miercoles-12-junio-2024/
LOCATION:Siroco\, Call de San Dimas\, 3\, Centro\, Madrid\, Comunidad de Madrid\, 28015\, España
ATTACH;FMTTYPE=image/jpeg:https://www.musicazul.com/wp-content/uploads/2024/05/thebugclub11052024-.jpg
END:VEVENT
BEGIN:VEVENT
DTSTART;TZID=Europe/Madrid:20240612T193000
DTEND;TZID=Europe/Madrid:20240612T233000
DTSTAMP:20260420T044651
CREATED:20240304T210813Z
LAST-MODIFIED:20240331T201211Z
UID:148266-1718220600-1718235000@musicazul.com
SUMMARY:El Columpio Asesino + Sidonie
DESCRIPTION:ENTRADAS ANTICIPADAS
URL:https://musicazul.com/event/el-columpio-asesino-sidonie-madrid-miercoles-12-junio-2024/
LOCATION:Navarra
ATTACH;FMTTYPE=image/jpeg:https://www.musicazul.com/wp-content/uploads/2024/03/nochesdelbotanico2024-.jpg
END:VEVENT
BEGIN:VEVENT
DTSTART;TZID=Europe/Madrid:20240611T193000
DTEND;TZID=Europe/Madrid:20240611T233000
DTSTAMP:20260420T044651
CREATED:20240304T210310Z
LAST-MODIFIED:20240331T200634Z
UID:148264-1718134200-1718148600@musicazul.com
SUMMARY:Caravan Palace + Travis Birds
DESCRIPTION:ENTRADAS ANTICIPADAS
URL:https://musicazul.com/event/caravan-palace-travis-birds-madrid-martes-11-junio-2024/
LOCATION:Real Jardín Botánico Alfonso XIII\, Av. Complutense\, s/n\, Moncloa - Aravaca\, Madrid\, Comunidad de Madrid\, 28040\, España
ATTACH;FMTTYPE=image/jpeg:https://www.musicazul.com/wp-content/uploads/2024/03/nochesdelbotanico2024-.jpg
END:VEVENT
BEGIN:VEVENT
DTSTART;TZID=Europe/Madrid:20240609T213000
DTEND;TZID=Europe/Madrid:20240609T233000
DTSTAMP:20260420T044651
CREATED:20240506T092018Z
LAST-MODIFIED:20240506T092554Z
UID:149344-1717968600-1717975800@musicazul.com
SUMMARY:Eilen Jewell
DESCRIPTION:ENTRADAS ANTICIPADAS
URL:https://musicazul.com/event/eilen-jewell-valencia-16-toneladas-domingo-9-junio-2024/
LOCATION:16 Toneladas\, Calle de Ricardo Micó\, 3\, Campanar\,\, Valencia\, Comunidad Valenciana\, 46009\, España
ATTACH;FMTTYPE=image/jpeg:https://www.musicazul.com/wp-content/uploads/2024/05/eilenjewell05052024-.jpg
END:VEVENT
BEGIN:VEVENT
DTSTART;TZID=Europe/Madrid:20240609T193000
DTEND;TZID=Europe/Madrid:20240609T233000
DTSTAMP:20260420T044651
CREATED:20240304T205843Z
LAST-MODIFIED:20240331T200236Z
UID:148262-1717961400-1717975800@musicazul.com
SUMMARY:Tomatito + Sandra Carrasco & David de Arahal
DESCRIPTION:ENTRADAS ANTICIPADAS
URL:https://musicazul.com/event/tomatito-sandra-carrasco-david-de-arahal-madrid-domingo-9-junio-2024/
LOCATION:Real Jardín Botánico Alfonso XIII\, Av. Complutense\, s/n\, Moncloa - Aravaca\, Madrid\, Comunidad de Madrid\, 28040\, España
ATTACH;FMTTYPE=image/jpeg:https://www.musicazul.com/wp-content/uploads/2024/03/nochesdelbotanico2024-.jpg
END:VEVENT
BEGIN:VEVENT
DTSTART;TZID=Europe/Madrid:20240609T190000
DTEND;TZID=Europe/Madrid:20240609T233000
DTSTAMP:20260420T044651
CREATED:20240429T200457Z
LAST-MODIFIED:20240429T200457Z
UID:149186-1717959600-1717975800@musicazul.com
SUMMARY:Exsonvaldes
DESCRIPTION:ENTRADAS ANTICIPADAS
URL:https://musicazul.com/event/exsonvaldes-barcelona-sidecar-domingo-9-junio-2024/
LOCATION:Sidecar\, Plaza Real\, 7\, Ciutat Vella\, Barcelona\, Catalunya\, 08002\, España
ATTACH;FMTTYPE=image/jpeg:https://www.musicazul.com/wp-content/uploads/2024/01/exsonvaldes11012024-.jpg
END:VEVENT
BEGIN:VEVENT
DTSTART;TZID=Europe/Madrid:20240608T220000
DTEND;TZID=Europe/Madrid:20240608T233000
DTSTAMP:20260420T044651
CREATED:20240429T195612Z
LAST-MODIFIED:20240429T195612Z
UID:149183-1717884000-1717889400@musicazul.com
SUMMARY:Exsonvaldes
DESCRIPTION:ENTRADAS ANTICIPADAS
URL:https://musicazul.com/event/exsonvaldes-lleida-la-boite-sabado-8-junio-2024/
LOCATION:La Boite\, Carrer Riu Éssera\, 19\, Lleida\, Catalunya\, 25004\, España
ATTACH;FMTTYPE=image/jpeg:https://www.musicazul.com/wp-content/uploads/2024/01/exsonvaldes11012024-.jpg
END:VEVENT
BEGIN:VEVENT
DTSTART;TZID=Europe/Madrid:20240608T213000
DTEND;TZID=Europe/Madrid:20240608T233000
DTSTAMP:20260420T044651
CREATED:20240128T162954Z
LAST-MODIFIED:20240513T153342Z
UID:149542-1717882200-1717889400@musicazul.com
SUMMARY:el momento incómodo
DESCRIPTION:ENTRADAS ANTICIPADAS
URL:https://musicazul.com/event/el-momento-incomodo-madrid-wurlitzer-ballroom-sabado-8-junio-2024/
LOCATION:Wurlitzer Ballroom\, Calle de las Tres Cruces\, 12\, Centro\, Madrid\, Comunidad de Madrid\, 28013\, España
ATTACH;FMTTYPE=image/jpeg:https://www.musicazul.com/wp-content/uploads/2024/03/soundisidro2024-.jpg
END:VEVENT
BEGIN:VEVENT
DTSTART;TZID=Europe/Madrid:20240608T210000
DTEND;TZID=Europe/Madrid:20240608T233000
DTSTAMP:20260420T044651
CREATED:20240128T221830Z
LAST-MODIFIED:20240419T212149Z
UID:148821-1717880400-1717889400@musicazul.com
SUMMARY:Merina Gris
DESCRIPTION:ENTRADAS ANTICIPADAS
URL:https://musicazul.com/event/merina-gris-madrid-el-sol-sabado-8-junio-2024/
LOCATION:El Sol\, C. de los Jardines\, 3\, Centro\, Madrid\, Comunidad de Madrid\, 28013\, España
ATTACH;FMTTYPE=image/jpeg:https://www.musicazul.com/wp-content/uploads/2024/03/soundisidro2024-.jpg
END:VEVENT
BEGIN:VEVENT
DTSTART;TZID=Europe/Madrid:20240608T200000
DTEND;TZID=Europe/Madrid:20240608T233000
DTSTAMP:20260420T044651
CREATED:20240506T085805Z
LAST-MODIFIED:20240506T085805Z
UID:149341-1717876800-1717889400@musicazul.com
SUMMARY:Eilen Jewell
DESCRIPTION:ENTRADA GRATUITA
URL:https://musicazul.com/event/eilen-jewell-arrasate-parque-monterron-sabado-8-junio-2024/
LOCATION:Parque Monterrón\, 20500 Arrasate\, Gipuzkoa\, Gipuzkoa\, País Vasco\, 20500\, España
ATTACH;FMTTYPE=image/jpeg:https://www.musicazul.com/wp-content/uploads/2024/05/eilenjewell05052024-.jpg
END:VEVENT
BEGIN:VEVENT
DTSTART;TZID=Europe/Madrid:20240608T193000
DTEND;TZID=Europe/Madrid:20240608T233000
DTSTAMP:20260420T044651
CREATED:20240304T191748Z
LAST-MODIFIED:20240331T182543Z
UID:148259-1717875000-1717889400@musicazul.com
SUMMARY:Rulo y La Contrabanda + Paul Alone
DESCRIPTION:ENTRADAS ANTICIPADAS
URL:https://musicazul.com/event/rulo-y-la-contrabanda-paul-alone-madrid-sabado-8-junio-2024/
LOCATION:Real Jardín Botánico Alfonso XIII\, Av. Complutense\, s/n\, Moncloa - Aravaca\, Madrid\, Comunidad de Madrid\, 28040\, España
ATTACH;FMTTYPE=image/jpeg:https://www.musicazul.com/wp-content/uploads/2024/03/nochesdelbotanico2024-.jpg
END:VEVENT
BEGIN:VEVENT
DTSTART;TZID=Europe/Madrid:20240608T190000
DTEND;TZID=Europe/Madrid:20240608T233000
DTSTAMP:20260420T044651
CREATED:20240425T131408Z
LAST-MODIFIED:20240427T131719Z
UID:149109-1717873200-1717889400@musicazul.com
SUMMARY:Teo Lucadamo + Barry B + Marta Knight
DESCRIPTION:ENTRADAS ANTICIPADAS
URL:https://musicazul.com/event/teo-lucadamo-barry-b-marta-knight-madrid-teatro-eslava-sabado-8-junio-2024/
LOCATION:Navarra
ATTACH;FMTTYPE=image/jpeg:https://www.musicazul.com/wp-content/uploads/2024/04/madridbrillante25042024-.jpg
END:VEVENT
BEGIN:VEVENT
DTSTART;TZID=Europe/Madrid:20240607T210000
DTEND;TZID=Europe/Madrid:20240607T233000
DTSTAMP:20260420T044651
CREATED:20240519T133405Z
LAST-MODIFIED:20240519T133405Z
UID:149842-1717794000-1717803000@musicazul.com
SUMMARY:Yami Safdie
DESCRIPTION:ENTRADAS ANTICIPADAS
URL:https://musicazul.com/event/yami-safdie-madrid-la-sala-del-wizink-center-viernes-7-junio-2024/
LOCATION:La Sala del WiZink Center\, Av. de Felipe II\, s/n\, Salamanca\, Madrid\, Comunidad de Madrid\, 28009\, España
ATTACH;FMTTYPE=image/jpeg:https://www.musicazul.com/wp-content/uploads/2024/05/yamisafdie19052024-.jpg
END:VEVENT
BEGIN:VEVENT
DTSTART;TZID=Europe/Madrid:20240607T210000
DTEND;TZID=Europe/Madrid:20240607T233000
DTSTAMP:20260420T044651
CREATED:20240429T174821Z
LAST-MODIFIED:20240429T174821Z
UID:149180-1717794000-1717803000@musicazul.com
SUMMARY:Exsonvaldes
DESCRIPTION:ENTRADAS ANTICIPADAS
URL:https://musicazul.com/event/exsonvaldes-alicante-confetti-viernes-7-junio-2024/
LOCATION:Confetti\, Calle del Médico Pascual Pérez\, 8\, Alicante\, Comunidad Valenciana\, 03001\, España
ATTACH;FMTTYPE=image/jpeg:https://www.musicazul.com/wp-content/uploads/2024/01/exsonvaldes11012024-.jpg
END:VEVENT
BEGIN:VEVENT
DTSTART;TZID=Europe/Madrid:20240607T200000
DTEND;TZID=Europe/Madrid:20240607T233000
DTSTAMP:20260420T044651
CREATED:20240506T084331Z
LAST-MODIFIED:20240506T084331Z
UID:149338-1717790400-1717803000@musicazul.com
SUMMARY:Eilen Jewell
DESCRIPTION:ENTRADAS ANTICIPADAS
URL:https://musicazul.com/event/eilen-jewell-madrid-hotel-canopy-castellana-viernes-7-junio-2024/
LOCATION:Hotel Canopy Castellana\, Plaza de Carlos Trías Bertrán\, 4\, Tetuán\, Madrid\, Comunidad de Madrid\, 28020\, España
ATTACH;FMTTYPE=image/jpeg:https://www.musicazul.com/wp-content/uploads/2024/05/eilenjewell05052024-.jpg
END:VEVENT
BEGIN:VEVENT
DTSTART;TZID=Europe/Madrid:20240607T193000
DTEND;TZID=Europe/Madrid:20240607T233000
DTSTAMP:20260420T044651
CREATED:20240304T191140Z
LAST-MODIFIED:20240331T181548Z
UID:148257-1717788600-1717803000@musicazul.com
SUMMARY:PJ Harvey
DESCRIPTION:ENTRADAS ANTICIPADAS
URL:https://musicazul.com/event/pj-harvey-madrid-viernes-7-junio-2024/
LOCATION:Real Jardín Botánico Alfonso XIII\, Av. Complutense\, s/n\, Moncloa - Aravaca\, Madrid\, Comunidad de Madrid\, 28040\, España
ATTACH;FMTTYPE=image/jpeg:https://www.musicazul.com/wp-content/uploads/2024/03/nochesdelbotanico2024-.jpg
END:VEVENT
BEGIN:VEVENT
DTSTART;TZID=Europe/Madrid:20240606T213000
DTEND;TZID=Europe/Madrid:20240606T233000
DTSTAMP:20260420T044651
CREATED:20240506T083502Z
LAST-MODIFIED:20240506T083502Z
UID:149336-1717709400-1717716600@musicazul.com
SUMMARY:Eilen Jewell
DESCRIPTION:ENTRADAS ANTICIPADAS
URL:https://musicazul.com/event/eilen-jewell-santiago-de-compostela-capitol-jueves-6-junio-2024/
LOCATION:Capitol\, Rúa de Concepción Arenal\, 5\, Santiago de Compostela\, Galicia\, 15702\, España
ATTACH;FMTTYPE=image/jpeg:https://www.musicazul.com/wp-content/uploads/2024/05/eilenjewell05052024-.jpg
END:VEVENT
BEGIN:VEVENT
DTSTART;TZID=Europe/Madrid:20240606T210000
DTEND;TZID=Europe/Madrid:20240606T233000
DTSTAMP:20260420T044651
CREATED:20240429T172812Z
LAST-MODIFIED:20240429T172812Z
UID:149177-1717707600-1717716600@musicazul.com
SUMMARY:Exsonvaldes
DESCRIPTION:ENTRADAS ANTICIPADAS
URL:https://musicazul.com/event/exsonvaldes-murcia-la-yeseria-jueves-6-junio-2024/
LOCATION:La Yesería\, Carretera Santa Quiteria\, 22\, Murcia\, Región de Murcia\, 30003\, España
ATTACH;FMTTYPE=image/jpeg:https://www.musicazul.com/wp-content/uploads/2024/01/exsonvaldes11012024-.jpg
END:VEVENT
BEGIN:VEVENT
DTSTART;TZID=Europe/Madrid:20240606T193000
DTEND;TZID=Europe/Madrid:20240606T233000
DTSTAMP:20260420T044651
CREATED:20240304T190449Z
LAST-MODIFIED:20240331T182301Z
UID:148255-1717702200-1717716600@musicazul.com
SUMMARY:Sen Senra
DESCRIPTION:ENTRADAS ANTICIPADAS
URL:https://musicazul.com/event/sen-senra-madrid-jueves-6-junio-2024/
LOCATION:Real Jardín Botánico Alfonso XIII\, Av. Complutense\, s/n\, Moncloa - Aravaca\, Madrid\, Comunidad de Madrid\, 28040\, España
ATTACH;FMTTYPE=image/jpeg:https://www.musicazul.com/wp-content/uploads/2024/03/nochesdelbotanico2024-.jpg
END:VEVENT
BEGIN:VEVENT
DTSTART;TZID=Europe/Madrid:20240605T200000
DTEND;TZID=Europe/Madrid:20240605T233000
DTSTAMP:20260420T044651
CREATED:20240502T142744Z
LAST-MODIFIED:20240502T142744Z
UID:149284-1717617600-1717630200@musicazul.com
SUMMARY:Militarie Gun
DESCRIPTION:ENTRADAS ANTICIPADAS
URL:https://musicazul.com/event/militarie-gun-madrid-wurlitzer-ballroom-miercoles-5-junio-2024/
LOCATION:Wurlitzer Ballroom\, Calle de las Tres Cruces\, 12\, Centro\, Madrid\, Comunidad de Madrid\, 28013\, España
ATTACH;FMTTYPE=image/jpeg:https://www.musicazul.com/wp-content/uploads/2024/05/militariegun02052024-.jpg
END:VEVENT
BEGIN:VEVENT
DTSTART;TZID=Europe/Madrid:20240604T193000
DTEND;TZID=Europe/Madrid:20240604T233000
DTSTAMP:20260420T044651
CREATED:20240304T185537Z
LAST-MODIFIED:20240331T182241Z
UID:148250-1717529400-1717543800@musicazul.com
SUMMARY:Mitski
DESCRIPTION:ENTRADAS ANTICIPADAS
URL:https://musicazul.com/event/mitski-madrid-martes-4-junio-2024/
LOCATION:Real Jardín Botánico Alfonso XIII\, Av. Complutense\, s/n\, Moncloa - Aravaca\, Madrid\, Comunidad de Madrid\, 28040\, España
ATTACH;FMTTYPE=image/jpeg:https://www.musicazul.com/wp-content/uploads/2024/03/nochesdelbotanico2024-.jpg
END:VEVENT
BEGIN:VEVENT
DTSTART;TZID=Europe/Madrid:20240604T190000
DTEND;TZID=Europe/Madrid:20240604T233000
DTSTAMP:20260420T044651
CREATED:20240213T193959Z
LAST-MODIFIED:20240213T193959Z
UID:146969-1717527600-1717543800@musicazul.com
SUMMARY:American Football
DESCRIPTION:ENTRADAS ANTICIPADAS
URL:https://musicazul.com/event/american-football-madrid-copernico-martes-4-junio-2024/
LOCATION:Copérnico\, Calle de Fernández de los Ríos\, 67\, Chamberí\, Madrid\, 28015\, España
ATTACH;FMTTYPE=image/jpeg:https://www.musicazul.com/wp-content/uploads/2024/02/americanfootball13022024-.jpg
END:VEVENT
BEGIN:VEVENT
DTSTART;TZID=Europe/Madrid:20240601T200000
DTEND;TZID=Europe/Madrid:20240601T233000
DTSTAMP:20260420T044651
CREATED:20231220T162759Z
LAST-MODIFIED:20231224T163905Z
UID:145930-1717272000-1717284600@musicazul.com
SUMMARY:The Hellacopters
DESCRIPTION:ENTRADAS ANTICIPADAS
URL:https://musicazul.com/event/the-hellacopters-bilbao-santana-27-sabado-1-junio-2024/
LOCATION:Santana 27\, Telleria Kalea\, 27\, Bilbao\, Bizkaia\, 48004\, España
ATTACH;FMTTYPE=image/jpeg:https://www.musicazul.com/wp-content/uploads/2023/12/thehellacopters20122023-.jpg
END:VEVENT
END:VCALENDAR