BEGIN:VCALENDAR
VERSION:2.0
PRODID:-//https://musicazul.com - ECPv6.11.2.1//NONSGML v1.0//EN
CALSCALE:GREGORIAN
METHOD:PUBLISH
X-WR-CALNAME:https://musicazul.com
X-ORIGINAL-URL:https://musicazul.com
X-WR-CALDESC:Eventos para https://musicazul.com
REFRESH-INTERVAL;VALUE=DURATION:PT1H
X-Robots-Tag:noindex
X-PUBLISHED-TTL:PT1H
BEGIN:VTIMEZONE
TZID:Europe/Madrid
BEGIN:DAYLIGHT
TZOFFSETFROM:+0100
TZOFFSETTO:+0200
TZNAME:CEST
DTSTART:20240331T010000
END:DAYLIGHT
BEGIN:STANDARD
TZOFFSETFROM:+0200
TZOFFSETTO:+0100
TZNAME:CET
DTSTART:20241027T010000
END:STANDARD
END:VTIMEZONE
BEGIN:VEVENT
DTSTART;TZID=Europe/Madrid:20240606T193000
DTEND;TZID=Europe/Madrid:20240606T233000
DTSTAMP:20260420T062638
CREATED:20240304T190449Z
LAST-MODIFIED:20240331T182301Z
UID:148255-1717702200-1717716600@musicazul.com
SUMMARY:Sen Senra
DESCRIPTION:ENTRADAS ANTICIPADAS
URL:https://musicazul.com/event/sen-senra-madrid-jueves-6-junio-2024/
LOCATION:Real Jardín Botánico Alfonso XIII\, Av. Complutense\, s/n\, Moncloa - Aravaca\, Madrid\, Comunidad de Madrid\, 28040\, España
ATTACH;FMTTYPE=image/jpeg:https://www.musicazul.com/wp-content/uploads/2024/03/nochesdelbotanico2024-.jpg
END:VEVENT
BEGIN:VEVENT
DTSTART;TZID=Europe/Madrid:20240605T200000
DTEND;TZID=Europe/Madrid:20240605T233000
DTSTAMP:20260420T062638
CREATED:20240502T142744Z
LAST-MODIFIED:20240502T142744Z
UID:149284-1717617600-1717630200@musicazul.com
SUMMARY:Militarie Gun
DESCRIPTION:ENTRADAS ANTICIPADAS
URL:https://musicazul.com/event/militarie-gun-madrid-wurlitzer-ballroom-miercoles-5-junio-2024/
LOCATION:Wurlitzer Ballroom\, Calle de las Tres Cruces\, 12\, Centro\, Madrid\, Comunidad de Madrid\, 28013\, España
ATTACH;FMTTYPE=image/jpeg:https://www.musicazul.com/wp-content/uploads/2024/05/militariegun02052024-.jpg
END:VEVENT
BEGIN:VEVENT
DTSTART;TZID=Europe/Madrid:20240604T193000
DTEND;TZID=Europe/Madrid:20240604T233000
DTSTAMP:20260420T062638
CREATED:20240304T185537Z
LAST-MODIFIED:20240331T182241Z
UID:148250-1717529400-1717543800@musicazul.com
SUMMARY:Mitski
DESCRIPTION:ENTRADAS ANTICIPADAS
URL:https://musicazul.com/event/mitski-madrid-martes-4-junio-2024/
LOCATION:Real Jardín Botánico Alfonso XIII\, Av. Complutense\, s/n\, Moncloa - Aravaca\, Madrid\, Comunidad de Madrid\, 28040\, España
ATTACH;FMTTYPE=image/jpeg:https://www.musicazul.com/wp-content/uploads/2024/03/nochesdelbotanico2024-.jpg
END:VEVENT
BEGIN:VEVENT
DTSTART;TZID=Europe/Madrid:20240604T190000
DTEND;TZID=Europe/Madrid:20240604T233000
DTSTAMP:20260420T062638
CREATED:20240213T193959Z
LAST-MODIFIED:20240213T193959Z
UID:146969-1717527600-1717543800@musicazul.com
SUMMARY:American Football
DESCRIPTION:ENTRADAS ANTICIPADAS
URL:https://musicazul.com/event/american-football-madrid-copernico-martes-4-junio-2024/
LOCATION:Copérnico\, Calle de Fernández de los Ríos\, 67\, Chamberí\, Madrid\, 28015\, España
ATTACH;FMTTYPE=image/jpeg:https://www.musicazul.com/wp-content/uploads/2024/02/americanfootball13022024-.jpg
END:VEVENT
BEGIN:VEVENT
DTSTART;TZID=Europe/Madrid:20240601T200000
DTEND;TZID=Europe/Madrid:20240601T233000
DTSTAMP:20260420T062638
CREATED:20231220T162759Z
LAST-MODIFIED:20231224T163905Z
UID:145930-1717272000-1717284600@musicazul.com
SUMMARY:The Hellacopters
DESCRIPTION:ENTRADAS ANTICIPADAS
URL:https://musicazul.com/event/the-hellacopters-bilbao-santana-27-sabado-1-junio-2024/
LOCATION:Santana 27\, Telleria Kalea\, 27\, Bilbao\, Bizkaia\, 48004\, España
ATTACH;FMTTYPE=image/jpeg:https://www.musicazul.com/wp-content/uploads/2023/12/thehellacopters20122023-.jpg
END:VEVENT
BEGIN:VEVENT
DTSTART;TZID=Europe/Madrid:20240531T193000
DTEND;TZID=Europe/Madrid:20240531T233000
DTSTAMP:20260420T062638
CREATED:20231220T162033Z
LAST-MODIFIED:20231224T162443Z
UID:145928-1717183800-1717198200@musicazul.com
SUMMARY:The Hellacopters
DESCRIPTION:ENTRADAS ANTICIPADAS
URL:https://musicazul.com/event/the-hellacopters-madrid-la-riviera-viernes-31-mayo-2024/
LOCATION:La Riviera\, Paseo Bajo de la Virgen del Puerto\, S/N\, Arganzuela\, Madrid\, Madrid\, 28005\, España
ATTACH;FMTTYPE=image/jpeg:https://www.musicazul.com/wp-content/uploads/2023/12/thehellacopters20122023-.jpg
END:VEVENT
BEGIN:VEVENT
DTSTART;TZID=Europe/Madrid:20240531T190000
DTEND;TZID=Europe/Madrid:20240531T233000
DTSTAMP:20260420T062638
CREATED:20240425T131210Z
LAST-MODIFIED:20240427T131336Z
UID:149107-1717182000-1717198200@musicazul.com
SUMMARY:Amor Líquido + Error 97 + La Juventud
DESCRIPTION:ENTRADAS ANTICIPADAS
URL:https://musicazul.com/event/amor-liquido-error-97-la-juventud-madrid-teatro-eslava-viernes-31-mayo-2024/
LOCATION:Teatro Eslava\, Calle Arenal\, 11\, Madrid\, Comunidad de Madrid\, 28013\, España
ATTACH;FMTTYPE=image/jpeg:https://www.musicazul.com/wp-content/uploads/2024/04/madridbrillante25042024-.jpg
END:VEVENT
BEGIN:VEVENT
DTSTART;TZID=Europe/Madrid:20240531T180000
DTEND;TZID=Europe/Madrid:20240601T233000
DTSTAMP:20260420T062638
CREATED:20240102T141034Z
LAST-MODIFIED:20240102T141416Z
UID:146087-1717178400-1717284600@musicazul.com
SUMMARY:Festial!
DESCRIPTION:ENTRADAS ANTICIPADAS \n(a la venta el próximo jueves 4 de enero)
URL:https://musicazul.com/event/festial-alcazar-de-san-juan-ciudad-real-mayo-junio-2024/
LOCATION:Complejo Polideportivo Municipal\, Avenida de Herencia\, s/n\, Alcázar de San Juan\, Ciudad Real\, 13600\, España
ATTACH;FMTTYPE=image/jpeg:https://www.musicazul.com/wp-content/uploads/2024/01/festial202402012024-.jpg
END:VEVENT
BEGIN:VEVENT
DTSTART;TZID=Europe/Madrid:20240530T213000
DTEND;TZID=Europe/Madrid:20240530T233000
DTSTAMP:20260420T062638
CREATED:20240128T144027Z
LAST-MODIFIED:20240519T134517Z
UID:149846-1717104600-1717111800@musicazul.com
SUMMARY:Tigre y Diamante + Gitano de Palo
DESCRIPTION:ENTRADAS ANTICIPADAS \n \n  \n 
URL:https://musicazul.com/event/tigre-y-diamante-gitano-de-palo-madrid-cafe-la-palma-jueves-30-mayo-2024/
LOCATION:Café La Palma\, Calle de la Palma\, 62\, Centro\, Madrid\, Comunidad de Madrid\, 28015\, España
ATTACH;FMTTYPE=image/jpeg:https://www.musicazul.com/wp-content/uploads/2024/03/soundisidro2024-.jpg
END:VEVENT
BEGIN:VEVENT
DTSTART;TZID=Europe/Madrid:20240530T203000
DTEND;TZID=Europe/Madrid:20240530T233000
DTSTAMP:20260420T062638
CREATED:20231220T161254Z
LAST-MODIFIED:20231224T161902Z
UID:145925-1717101000-1717111800@musicazul.com
SUMMARY:The Hellacopters
DESCRIPTION:ENTRADAS ANTICIPADAS
URL:https://musicazul.com/event/the-hellacopters-malaga-paris-15-jueves-30-mayo-2024/
LOCATION:París 15\, Calle la Orotava\, 25\, 27\, Cruz de Humilladero\, Málaga\, Málaga\, 35018\, España
ATTACH;FMTTYPE=image/jpeg:https://www.musicazul.com/wp-content/uploads/2023/12/thehellacopters20122023-.jpg
END:VEVENT
BEGIN:VEVENT
DTSTART;TZID=Europe/Madrid:20240530T200000
DTEND;TZID=Europe/Madrid:20240530T233000
DTSTAMP:20260420T062638
CREATED:20240128T143849Z
LAST-MODIFIED:20240519T134450Z
UID:149844-1717099200-1717111800@musicazul.com
SUMMARY:Xavibo
DESCRIPTION:ENTRADAS ANTICIPADAS
URL:https://musicazul.com/event/xavibo-madrid-la-riviera-jueves-30-mayo-2024/
LOCATION:La Riviera\, Paseo Bajo de la Virgen del Puerto\, S/N\, Arganzuela\, Madrid\, Madrid\, 28005\, España
ATTACH;FMTTYPE=image/jpeg:https://www.musicazul.com/wp-content/uploads/2024/03/soundisidro2024-.jpg
END:VEVENT
BEGIN:VEVENT
DTSTART;TZID=Europe/Madrid:20240530T190000
DTEND;TZID=Europe/Madrid:20240530T233000
DTSTAMP:20260420T062638
CREATED:20240213T173718Z
LAST-MODIFIED:20240213T173718Z
UID:146953-1717095600-1717111800@musicazul.com
SUMMARY:Dogstar
DESCRIPTION:ENTRADAS ANTICIPADAS
URL:https://musicazul.com/event/dogstar-madrid-la-sala-del-wizink-center-miercoles-30-mayo-2024/
LOCATION:La Sala del WiZink Center\, Av. de Felipe II\, s/n\, Salamanca\, Madrid\, Comunidad de Madrid\, 28009\, España
ATTACH;FMTTYPE=image/jpeg:https://www.musicazul.com/wp-content/uploads/2024/02/dogstar13022024-.jpg
END:VEVENT
BEGIN:VEVENT
DTSTART;TZID=Europe/Madrid:20240529T200000
DTEND;TZID=Europe/Madrid:20240529T233000
DTSTAMP:20260420T062638
CREATED:20231220T160413Z
LAST-MODIFIED:20231224T161055Z
UID:145922-1717012800-1717025400@musicazul.com
SUMMARY:The Hellacopters
DESCRIPTION:ENTRADAS ANTICIPADAS
URL:https://musicazul.com/event/the-hellacopters-valencia-repvblicca-miercoles-29-mayo-2024/
LOCATION:Repvblicca\, Polígono Industrial Mislata\, Carrer Baix Vinalopó\, 2\, Valencia\, Valencia\, 46920\, España
ATTACH;FMTTYPE=image/jpeg:https://www.musicazul.com/wp-content/uploads/2023/12/thehellacopters20122023-.jpg
END:VEVENT
BEGIN:VEVENT
DTSTART;TZID=Europe/Madrid:20240529T190000
DTEND;TZID=Europe/Madrid:20240529T233000
DTSTAMP:20260420T062638
CREATED:20240213T184611Z
LAST-MODIFIED:20240213T184611Z
UID:146960-1717009200-1717025400@musicazul.com
SUMMARY:AC/DC
DESCRIPTION:ENTRADAS ANTICIPADAS
URL:https://musicazul.com/event/ac-dc-sevilla-la-cartuja-miercoles-29-mayo-2024/
LOCATION:Estadio La Cartuja\, Isla de la Cartuja\, sector norte\, Sevilla\, Andalucía\, 41092\, España
ATTACH;FMTTYPE=image/jpeg:https://www.musicazul.com/wp-content/uploads/2024/02/acdc13022024-.jpg
END:VEVENT
BEGIN:VEVENT
DTSTART;TZID=Europe/Madrid:20240528T200000
DTEND;TZID=Europe/Madrid:20240528T233000
DTSTAMP:20260420T062638
CREATED:20240304T103759Z
LAST-MODIFIED:20240304T103759Z
UID:147362-1716926400-1716939000@musicazul.com
SUMMARY:The Lemon Twigs
DESCRIPTION:ENTRADAS ANTICIPADAS
URL:https://musicazul.com/event/the-lemon-twigs-madrid-copernico-martes-28-mayo-2024/
LOCATION:Copérnico\, Calle de Fernández de los Ríos\, 67\, Chamberí\, Madrid\, 28015\, España
ATTACH;FMTTYPE=image/jpeg:https://www.musicazul.com/wp-content/uploads/2024/03/thelemontwigs04032024-.jpg
END:VEVENT
BEGIN:VEVENT
DTSTART;TZID=Europe/Madrid:20240528T193000
DTEND;TZID=Europe/Madrid:20240528T233000
DTSTAMP:20260420T062638
CREATED:20240326T103054Z
LAST-MODIFIED:20240326T103054Z
UID:147953-1716924600-1716939000@musicazul.com
SUMMARY:Deftones
DESCRIPTION:ENTRADAS ANTICIPADAS
URL:https://musicazul.com/event/deftones-madrid-la-riviera-martes-28-mayo-2024/
LOCATION:La Riviera\, Paseo Bajo de la Virgen del Puerto\, S/N\, Arganzuela\, Madrid\, Madrid\, 28005\, España
ATTACH;FMTTYPE=image/jpeg:https://www.musicazul.com/wp-content/uploads/2022/04/deftones15042022.jpg
END:VEVENT
BEGIN:VEVENT
DTSTART;TZID=Europe/Madrid:20240528T190000
DTEND;TZID=Europe/Madrid:20240528T233000
DTSTAMP:20260420T062638
CREATED:20231220T155849Z
LAST-MODIFIED:20231224T160241Z
UID:145920-1716922800-1716939000@musicazul.com
SUMMARY:The Hellacopters
DESCRIPTION:ENTRADAS ANTICIPADAS
URL:https://musicazul.com/event/the-hellacopters-barcelona-razzmatazz-martes-28-mayo-2024/
LOCATION:Razzmatazz\, Carrer dels Almogàvers\, 122\, Sant Martí\, Barcelona\, Barcelona\, 08018\, España
ATTACH;FMTTYPE=image/jpeg:https://www.musicazul.com/wp-content/uploads/2023/12/thehellacopters20122023-.jpg
END:VEVENT
BEGIN:VEVENT
DTSTART;TZID=Europe/Madrid:20240527T190000
DTEND;TZID=Europe/Madrid:20240527T233000
DTSTAMP:20260420T062638
CREATED:20231109T205138Z
LAST-MODIFIED:20240103T210028Z
UID:146138-1716836400-1716852600@musicazul.com
SUMMARY:Thirty Seconds To Mars
DESCRIPTION:ENTRADAS ANTICIPADAS
URL:https://musicazul.com/event/thirty-seconds-to-mars-madrid-wizink-center-lunes-27-mayo-2024/
LOCATION:WiZink Center\, Avenida de Felipe II\, s/n\, Madrid\, Comunidad de Madrid\, 28009\, España
ATTACH;FMTTYPE=image/jpeg:https://www.musicazul.com/wp-content/uploads/2023/11/thirtysecondstomars09112023-.jpg
END:VEVENT
BEGIN:VEVENT
DTSTART;TZID=Europe/Madrid:20240525T203000
DTEND;TZID=Europe/Madrid:20240525T233000
DTSTAMP:20260420T062638
CREATED:20231226T213250Z
LAST-MODIFIED:20231226T213250Z
UID:146030-1716669000-1716679800@musicazul.com
SUMMARY:Chica Sobresalto
DESCRIPTION:ENTRADAS ANTICIPADAS
URL:https://musicazul.com/event/chica-sobresalto-tenerife-aguere-cultural-sabado-25-mayo-2024/
LOCATION:Aguere Cultural\, Calle Herradores\, 47\, La Laguna\, Santa Cruz de Tenerife\, Islas Canarias\, 38204\, España
ATTACH;FMTTYPE=image/jpeg:https://www.musicazul.com/wp-content/uploads/2023/12/chicasobresalto26122023-.jpg
END:VEVENT
BEGIN:VEVENT
DTSTART;TZID=Europe/Madrid:20240525T180000
DTEND;TZID=Europe/Madrid:20240525T233000
DTSTAMP:20260420T062638
CREATED:20240328T185058Z
LAST-MODIFIED:20240328T185058Z
UID:148076-1716660000-1716679800@musicazul.com
SUMMARY:Tomavistas 2024
DESCRIPTION:ENTRADAS ANTICIPADAS
URL:https://musicazul.com/event/tomavistas-sabado-25-mayo-2024/
LOCATION:La Caja Mágica\, Camino de Perales\, 23\, Usera\, Madrid\, Comunidad de Madrid\, 28041\, España
ATTACH;FMTTYPE=image/jpeg:https://www.musicazul.com/wp-content/uploads/2024/03/lacajamagica2024-.jpg
END:VEVENT
BEGIN:VEVENT
DTSTART;TZID=Europe/Madrid:20240524T200000
DTEND;TZID=Europe/Madrid:20240524T233000
DTSTAMP:20260420T062638
CREATED:20240128T210636Z
LAST-MODIFIED:20240518T201224Z
UID:149814-1716580800-1716593400@musicazul.com
SUMMARY:YellowStraps
DESCRIPTION:ENTRADAS ANTICIPADAS
URL:https://musicazul.com/event/yellowstraps-madrid-the-bassement-club-viernes-24-mayo-2024/
LOCATION:The Bassement Club\, Calle de Galileo\, 26\, Chamberí\, Madrid\, Comunidad de Madrid\, 28015\, España
ATTACH;FMTTYPE=image/jpeg:https://www.musicazul.com/wp-content/uploads/2024/03/soundisidro2024-.jpg
END:VEVENT
BEGIN:VEVENT
DTSTART;TZID=Europe/Madrid:20240524T180000
DTEND;TZID=Europe/Madrid:20240524T233000
DTSTAMP:20260420T062638
CREATED:20240328T183936Z
LAST-MODIFIED:20240328T184411Z
UID:148071-1716573600-1716593400@musicazul.com
SUMMARY:Tomavistas 2024
DESCRIPTION:ENTRADAS ANTICIPADAS
URL:https://musicazul.com/event/tomavistas-viernes-24-mayo-2024/
LOCATION:La Caja Mágica\, Camino de Perales\, 23\, Usera\, Madrid\, Comunidad de Madrid\, 28041\, España
ATTACH;FMTTYPE=image/jpeg:https://www.musicazul.com/wp-content/uploads/2024/03/lacajamagica2024-.jpg
END:VEVENT
BEGIN:VEVENT
DTSTART;TZID=Europe/Madrid:20240523T220000
DTEND;TZID=Europe/Madrid:20240523T233000
DTSTAMP:20260420T062638
CREATED:20240128T210043Z
LAST-MODIFIED:20240518T200352Z
UID:149812-1716501600-1716507000@musicazul.com
SUMMARY:1111
DESCRIPTION:ENTRADAS ANTICIPADAS
URL:https://musicazul.com/event/1111-madrid-cafe-la-palma-jueves-23-mayo-2024/
LOCATION:Café La Palma\, Calle de la Palma\, 62\, Centro\, Madrid\, Comunidad de Madrid\, 28015\, España
ATTACH;FMTTYPE=image/jpeg:https://www.musicazul.com/wp-content/uploads/2024/03/soundisidro2024-.jpg
END:VEVENT
BEGIN:VEVENT
DTSTART;TZID=Europe/Madrid:20240523T200000
DTEND;TZID=Europe/Madrid:20240523T233000
DTSTAMP:20260420T062638
CREATED:20240128T205517Z
LAST-MODIFIED:20240518T195909Z
UID:149810-1716494400-1716507000@musicazul.com
SUMMARY:Dengue Dengue Dengue
DESCRIPTION:ENTRADAS ANTICIPADAS
URL:https://musicazul.com/event/dengue-dengue-dengue-madrid-shoko-jueves-23-mayo-2024/
LOCATION:Shoko\, Calle de Toledo\, 86\, Centro\, Madrid\, Comunidad de Madrid\, 28005\, España
ATTACH;FMTTYPE=image/jpeg:https://www.musicazul.com/wp-content/uploads/2024/03/soundisidro2024-.jpg
END:VEVENT
BEGIN:VEVENT
DTSTART;TZID=Europe/Madrid:20240523T200000
DTEND;TZID=Europe/Madrid:20240523T233000
DTSTAMP:20260420T062638
CREATED:20240116T143916Z
LAST-MODIFIED:20240116T143916Z
UID:146342-1716494400-1716507000@musicazul.com
SUMMARY:The Academic
DESCRIPTION:ENTRADAS ANTICIPADAS
URL:https://musicazul.com/event/the-academic-madrid-moby-dick-jueves-23-mayo-2024/
LOCATION:Moby Dick\, Avenida de Brasil\, 5\, Tetuán\, Madrid\, Comunidad de Madrid\, 28020\, España
ATTACH;FMTTYPE=image/jpeg:https://www.musicazul.com/wp-content/uploads/2024/01/theacademic16012024-.jpg
END:VEVENT
BEGIN:VEVENT
DTSTART;TZID=Europe/Madrid:20240523T193000
DTEND;TZID=Europe/Madrid:20240523T233000
DTSTAMP:20260420T062638
CREATED:20240128T204853Z
LAST-MODIFIED:20240518T195321Z
UID:149808-1716492600-1716507000@musicazul.com
SUMMARY:Juancho Marqués
DESCRIPTION:ENTRADAS ANTICIPADAS
URL:https://musicazul.com/event/juancho-marques-madrid-la-riviera-jueves-23-mayo-2024/
LOCATION:La Riviera\, Paseo Bajo de la Virgen del Puerto\, S/N\, Arganzuela\, Madrid\, Madrid\, 28005\, España
ATTACH;FMTTYPE=image/jpeg:https://www.musicazul.com/wp-content/uploads/2024/03/soundisidro2024-.jpg
END:VEVENT
BEGIN:VEVENT
DTSTART;TZID=Europe/Madrid:20240522T200000
DTEND;TZID=Europe/Madrid:20240522T233000
DTSTAMP:20260420T062638
CREATED:20240116T143431Z
LAST-MODIFIED:20240116T143431Z
UID:146340-1716408000-1716420600@musicazul.com
SUMMARY:The Academic
DESCRIPTION:ENTRADAS ANTICIPADAS
URL:https://musicazul.com/event/the-academic-barcelona-razzmatazz-3-miercoles-22-mayo-2024/
LOCATION:Razzmatazz 3\, Carrer dels Almogàvers\, 122\, Barcelona\, Barcelona\, 08018\, España
ATTACH;FMTTYPE=image/jpeg:https://www.musicazul.com/wp-content/uploads/2024/01/theacademic16012024-.jpg
END:VEVENT
BEGIN:VEVENT
DTSTART;TZID=Europe/Madrid:20240518T220000
DTEND;TZID=Europe/Madrid:20240518T233000
DTSTAMP:20260420T062638
CREATED:20240128T210213Z
LAST-MODIFIED:20240515T200853Z
UID:149690-1716069600-1716075000@musicazul.com
SUMMARY:Playback Maracas
DESCRIPTION:ENTRADAS ANTICIPADAS
URL:https://musicazul.com/event/playback-maracas-madrid-clamores-sabado-18-mayo-2024/
LOCATION:Clamores\, Calle de Alburquerque\, 14\, Chamberí\, Madrid\, Comunidad de Madrid\, 28010\, España
ATTACH;FMTTYPE=image/jpeg:https://www.musicazul.com/wp-content/uploads/2024/03/soundisidro2024-.jpg
END:VEVENT
BEGIN:VEVENT
DTSTART;TZID=Europe/Madrid:20240518T200000
DTEND;TZID=Europe/Madrid:20240518T233000
DTSTAMP:20260420T062638
CREATED:20240128T205643Z
LAST-MODIFIED:20240515T200034Z
UID:149688-1716062400-1716075000@musicazul.com
SUMMARY:Bernarda + Diamante Negro
DESCRIPTION:ENTRADAS ANTICIPADAS
URL:https://musicazul.com/event/bernarda-diamante-negro-madrid-copernico-sabado-18-mayo-2024/
LOCATION:Copérnico\, Calle de Fernández de los Ríos\, 67\, Chamberí\, Madrid\, 28015\, España
ATTACH;FMTTYPE=image/jpeg:https://www.musicazul.com/wp-content/uploads/2024/03/soundisidro2024-.jpg
END:VEVENT
BEGIN:VEVENT
DTSTART;TZID=Europe/Madrid:20240518T200000
DTEND;TZID=Europe/Madrid:20240518T233000
DTSTAMP:20260420T062638
CREATED:20240128T205045Z
LAST-MODIFIED:20240515T195527Z
UID:149686-1716062400-1716075000@musicazul.com
SUMMARY:Prison Affair + Finale
DESCRIPTION:ENTRADAS ANTICIPADAS
URL:https://musicazul.com/event/prison-affair-finale-madrid-but-sabado-18-mayo-2024/
LOCATION:But\, Calle Barceló\, 11\, Local B\, Centro\, Madrid\, Comunidad de Madrid\, 28004\, España
ATTACH;FMTTYPE=image/jpeg:https://www.musicazul.com/wp-content/uploads/2024/03/soundisidro2024-.jpg
END:VEVENT
END:VCALENDAR