BEGIN:VCALENDAR
VERSION:2.0
PRODID:-//https://musicazul.com - ECPv6.11.2.1//NONSGML v1.0//EN
CALSCALE:GREGORIAN
METHOD:PUBLISH
X-ORIGINAL-URL:https://musicazul.com
X-WR-CALDESC:Eventos para https://musicazul.com
REFRESH-INTERVAL;VALUE=DURATION:PT1H
X-Robots-Tag:noindex
X-PUBLISHED-TTL:PT1H
BEGIN:VTIMEZONE
TZID:Europe/Madrid
BEGIN:DAYLIGHT
TZOFFSETFROM:+0100
TZOFFSETTO:+0200
TZNAME:CEST
DTSTART:20240331T010000
END:DAYLIGHT
BEGIN:STANDARD
TZOFFSETFROM:+0200
TZOFFSETTO:+0100
TZNAME:CET
DTSTART:20241027T010000
END:STANDARD
END:VTIMEZONE
BEGIN:VEVENT
DTSTART;TZID=Europe/Madrid:20240510T203000
DTEND;TZID=Europe/Madrid:20240510T233000
DTSTAMP:20260420T094804
CREATED:20231224T145649Z
LAST-MODIFIED:20231224T145649Z
UID:145899-1715373000-1715383800@musicazul.com
SUMMARY:Cancer Bats
DESCRIPTION:ENTRADAS ANTICIPADAS
URL:https://musicazul.com/event/cancer-bats-castello-terra-viernes-10-mayo-2024/
LOCATION:Terra\, Carrer de Ramon Llull\, 19\, Castelló de la Plana\, Castellón\, 12005\, España
ATTACH;FMTTYPE=image/jpeg:https://www.musicazul.com/wp-content/uploads/2023/12/cancerbats24122023-.jpg
END:VEVENT
BEGIN:VEVENT
DTSTART;TZID=Europe/Madrid:20240510T200000
DTEND;TZID=Europe/Madrid:20240510T233000
DTSTAMP:20260420T094804
CREATED:20240128T144630Z
LAST-MODIFIED:20240427T134922Z
UID:149122-1715371200-1715383800@musicazul.com
SUMMARY:Lisabö + ou!
DESCRIPTION:ENTRADAS ANTICIPADAS
URL:https://musicazul.com/event/lisabo-ou-madrid-shoko-viernes-10-mayo-2024/
LOCATION:Shoko\, Calle de Toledo\, 86\, Centro\, Madrid\, Comunidad de Madrid\, 28005\, España
ATTACH;FMTTYPE=image/jpeg:https://www.musicazul.com/wp-content/uploads/2024/03/soundisidro2024-.jpg
END:VEVENT
BEGIN:VEVENT
DTSTART;TZID=Europe/Madrid:20240510T200000
DTEND;TZID=Europe/Madrid:20240510T233000
DTSTAMP:20260420T094804
CREATED:20240128T143450Z
LAST-MODIFIED:20240427T133558Z
UID:149117-1715371200-1715383800@musicazul.com
SUMMARY:The Change
DESCRIPTION:ENTRADAS ANTICIPADAS
URL:https://musicazul.com/event/the-change-madrid-the-bassement-club-viernes-10-mayo-2024/
LOCATION:The Bassement Club\, Calle de Galileo\, 26\, Chamberí\, Madrid\, Comunidad de Madrid\, 28015\, España
ATTACH;FMTTYPE=image/jpeg:https://www.musicazul.com/wp-content/uploads/2024/03/soundisidro2024-.jpg
END:VEVENT
BEGIN:VEVENT
DTSTART;TZID=Europe/Madrid:20240510T193000
DTEND;TZID=Europe/Madrid:20240510T233000
DTSTAMP:20260420T094804
CREATED:20240128T142811Z
LAST-MODIFIED:20240427T133102Z
UID:149115-1715369400-1715383800@musicazul.com
SUMMARY:rusowsky
DESCRIPTION:ENTRADAS ANTICIPADAS
URL:https://musicazul.com/event/rusowsky-madrid-la-riviera-viernes-10-mayo-2024/
LOCATION:La Riviera\, Paseo Bajo de la Virgen del Puerto\, S/N\, Arganzuela\, Madrid\, Madrid\, 28005\, España
ATTACH;FMTTYPE=image/jpeg:https://www.musicazul.com/wp-content/uploads/2024/03/soundisidro2024-.jpg
END:VEVENT
BEGIN:VEVENT
DTSTART;TZID=Europe/Madrid:20240510T080000
DTEND;TZID=Europe/Madrid:20240510T170000
DTSTAMP:20260420T094804
CREATED:20240128T144247Z
LAST-MODIFIED:20240427T135829Z
UID:149120-1715328000-1715360400@musicazul.com
SUMMARY:Axolotes Mexicanos + Los Chivatos
DESCRIPTION:ENTRADAS ANTICIPADAS
URL:https://musicazul.com/event/axolotes-mexicanos-los-chivatos-madrid-but-viernes-10-mayo-2024/
LOCATION:Comunidad de Madrid
ATTACH;FMTTYPE=image/jpeg:https://www.musicazul.com/wp-content/uploads/2024/03/soundisidro2024-.jpg
END:VEVENT
BEGIN:VEVENT
DTSTART;TZID=Europe/Madrid:20240509T210000
DTEND;TZID=Europe/Madrid:20240509T233000
DTSTAMP:20260420T094804
CREATED:20240506T135310Z
LAST-MODIFIED:20240506T135310Z
UID:149346-1715288400-1715297400@musicazul.com
SUMMARY:Álvaro Suite
DESCRIPTION:ENTRADAS ANTICIPADAS
URL:https://musicazul.com/event/alvaro-suite-madrid-buho-real-jueves-9-mayo-2024/
LOCATION:Búho Real\, Calle de Regueros\, 5\, Centro\, Madrid\, Comunidad de Madrid\, 28004\, España
ATTACH;FMTTYPE=image/jpeg:https://www.musicazul.com/wp-content/uploads/2023/09/alvarosuite24092023-.jpg
END:VEVENT
BEGIN:VEVENT
DTSTART;TZID=Europe/Madrid:20240509T210000
DTEND;TZID=Europe/Madrid:20240509T233000
DTSTAMP:20260420T094804
CREATED:20231224T143621Z
LAST-MODIFIED:20231224T144353Z
UID:145895-1715288400-1715297400@musicazul.com
SUMMARY:Cancer Bats
DESCRIPTION:ENTRADAS ANTICIPADAS
URL:https://musicazul.com/event/cancer-bats-madrid-gruta-77-jueves-9-mayo-2024/
LOCATION:Gruta 77\, Calle Cuclillo\, 6\, Carabanchel\, Madrid\, Madrid\, 28019\, España
ATTACH;FMTTYPE=image/jpeg:https://www.musicazul.com/wp-content/uploads/2023/12/cancerbats24122023-.jpg
END:VEVENT
BEGIN:VEVENT
DTSTART;TZID=Europe/Madrid:20240509T200000
DTEND;TZID=Europe/Madrid:20240509T233000
DTSTAMP:20260420T094804
CREATED:20240128T205951Z
LAST-MODIFIED:20240424T200436Z
UID:149011-1715284800-1715297400@musicazul.com
SUMMARY:Reality
DESCRIPTION:ENTRADAS ANTICIPADAS
URL:https://musicazul.com/event/reality-madrid-shoko-jueves-9-mayo-2024/
LOCATION:Shoko\, Calle de Toledo\, 86\, Centro\, Madrid\, Comunidad de Madrid\, 28005\, España
ATTACH;FMTTYPE=image/jpeg:https://www.musicazul.com/wp-content/uploads/2024/03/soundisidro2024-.jpg
END:VEVENT
BEGIN:VEVENT
DTSTART;TZID=Europe/Madrid:20240509T200000
DTEND;TZID=Europe/Madrid:20240509T233000
DTSTAMP:20260420T094804
CREATED:20240128T205508Z
LAST-MODIFIED:20240424T195855Z
UID:149009-1715284800-1715297400@musicazul.com
SUMMARY:rusowsky
DESCRIPTION:ENTRADAS ANTICIPADAS
URL:https://musicazul.com/event/rusowsky-madrid-la-riviera-jueves-9-mayo-2024/
LOCATION:La Riviera\, Paseo Bajo de la Virgen del Puerto\, S/N\, Arganzuela\, Madrid\, Madrid\, 28005\, España
ATTACH;FMTTYPE=image/jpeg:https://www.musicazul.com/wp-content/uploads/2024/03/soundisidro2024-.jpg
END:VEVENT
BEGIN:VEVENT
DTSTART;TZID=Europe/Madrid:20240509T200000
DTEND;TZID=Europe/Madrid:20240509T233000
DTSTAMP:20260420T094804
CREATED:20240128T204914Z
LAST-MODIFIED:20240424T195323Z
UID:149007-1715284800-1715297400@musicazul.com
SUMMARY:Júlia Colom
DESCRIPTION:ENTRADAS ANTICIPADAS
URL:https://musicazul.com/event/julia-colom-madrid-clamores-jueves-9-mayo-2024/
LOCATION:Clamores\, Calle de Alburquerque\, 14\, Chamberí\, Madrid\, Comunidad de Madrid\, 28010\, España
ATTACH;FMTTYPE=image/jpeg:https://www.musicazul.com/wp-content/uploads/2024/03/soundisidro2024-.jpg
END:VEVENT
BEGIN:VEVENT
DTSTART;TZID=Europe/Madrid:20240508T210000
DTEND;TZID=Europe/Madrid:20240508T233000
DTSTAMP:20260420T094804
CREATED:20240422T162234Z
LAST-MODIFIED:20240422T162315Z
UID:148896-1715202000-1715211000@musicazul.com
SUMMARY:Adrift
DESCRIPTION:ENTRADAS ANTICIPADAS
URL:https://musicazul.com/event/adrift-madrid-el-sol-miercoles-8-mayo-2024/
LOCATION:El Sol\, C. de los Jardines\, 3\, Centro\, Madrid\, Comunidad de Madrid\, 28013\, España
ATTACH;FMTTYPE=image/jpeg:https://www.musicazul.com/wp-content/uploads/2024/03/soundisidro2024-.jpg
END:VEVENT
BEGIN:VEVENT
DTSTART;TZID=Europe/Madrid:20240508T203000
DTEND;TZID=Europe/Madrid:20240508T233000
DTSTAMP:20260420T094804
CREATED:20231224T142810Z
LAST-MODIFIED:20231224T145922Z
UID:145892-1715200200-1715211000@musicazul.com
SUMMARY:Cancer Bats
DESCRIPTION:ENTRADAS ANTICIPADAS
URL:https://musicazul.com/event/cancer-bats-bilbao-stage-live-miercoles-8-mayo-2024/
LOCATION:Stage Live\, Uribitarte Pasealekua\, 8\, Abando\, Bilbao\, Bizkaia\, 48001\, España
ATTACH;FMTTYPE=image/jpeg:https://www.musicazul.com/wp-content/uploads/2023/12/cancerbats24122023-.jpg
END:VEVENT
BEGIN:VEVENT
DTSTART;TZID=Europe/Madrid:20240504T210000
DTEND;TZID=Europe/Madrid:20240504T233000
DTSTAMP:20260420T094804
CREATED:20240128T170920Z
LAST-MODIFIED:20240422T161407Z
UID:148894-1714856400-1714865400@musicazul.com
SUMMARY:Fresh Warapa + Anacri
DESCRIPTION:ENTRADAS ANTICIPADAS
URL:https://musicazul.com/event/fresh-warapa-anacri-madrid-el-sotano-sabado-4-mayo-2024/
LOCATION:Comunidad de Madrid
ATTACH;FMTTYPE=image/jpeg:https://www.musicazul.com/wp-content/uploads/2024/03/soundisidro2024-.jpg
END:VEVENT
BEGIN:VEVENT
DTSTART;TZID=Europe/Madrid:20240504T200000
DTEND;TZID=Europe/Madrid:20240504T233000
DTSTAMP:20260420T094804
CREATED:20240213T162810Z
LAST-MODIFIED:20240331T153112Z
UID:148227-1714852800-1714865400@musicazul.com
SUMMARY:The New Raemon + La Joya
DESCRIPTION:ENTRADAS ANTICIPADAS
URL:https://musicazul.com/event/the-new-raemon-la-joya-barcelona-la-2-de-apolo-sabado-4-mayo-2024/
LOCATION:La (2) de Apolo\, Carrer Nou de la Rambla\, 113\, Sants-Montjuïc\, Barcelona\, Catalunya\, 08004\, España
ATTACH;FMTTYPE=image/jpeg:https://www.musicazul.com/wp-content/uploads/2024/02/thenewraemon13022024-.jpg
END:VEVENT
BEGIN:VEVENT
DTSTART;TZID=Europe/Madrid:20240503T200000
DTEND;TZID=Europe/Madrid:20240503T233000
DTSTAMP:20260420T094804
CREATED:20231225T113445Z
LAST-MODIFIED:20231228T124623Z
UID:145951-1714766400-1714779000@musicazul.com
SUMMARY:Loquillo
DESCRIPTION:ENTRADAS ANTICIPADAS
URL:https://musicazul.com/event/loquillo-madrid-teatro-circo-price-viernes-3-mayo-2024/
LOCATION:Teatro Circo Price\, Ronda de Atocha\, 35\, Arganzuela\, Madrid\, Comunidad de Madrid\, 28012\, España
ATTACH;FMTTYPE=image/jpeg:https://www.musicazul.com/wp-content/uploads/2023/12/loquillo25122023-.jpg
END:VEVENT
BEGIN:VEVENT
DTSTART;TZID=Europe/Madrid:20240502T200000
DTEND;TZID=Europe/Madrid:20240502T233000
DTSTAMP:20260420T094804
CREATED:20231225T113009Z
LAST-MODIFIED:20231228T124903Z
UID:145948-1714680000-1714692600@musicazul.com
SUMMARY:Loquillo
DESCRIPTION:ENTRADAS ANTICIPADAS
URL:https://musicazul.com/event/loquillo-madrid-teatro-circo-price-jueves-2-mayo-2024/
LOCATION:Teatro Circo Price\, Ronda de Atocha\, 35\, Arganzuela\, Madrid\, Comunidad de Madrid\, 28012\, España
ATTACH;FMTTYPE=image/jpeg:https://www.musicazul.com/wp-content/uploads/2023/12/loquillo25122023-.jpg
END:VEVENT
BEGIN:VEVENT
DTSTART;TZID=Europe/Madrid:20240428T203000
DTEND;TZID=Europe/Madrid:20240428T233000
DTSTAMP:20260420T094804
CREATED:20240128T165943Z
LAST-MODIFIED:20240422T160645Z
UID:148891-1714336200-1714347000@musicazul.com
SUMMARY:Widowspeak + Jess Ribeiro
DESCRIPTION:ENTRADAS ANTICIPADAS
URL:https://musicazul.com/event/widowspeak-jess-ribeiro-madrid-clamores-domingo-28-abril-2024/
LOCATION:Clamores\, Calle de Alburquerque\, 14\, Chamberí\, Madrid\, Comunidad de Madrid\, 28010\, España
ATTACH;FMTTYPE=image/jpeg:https://www.musicazul.com/wp-content/uploads/2024/03/soundisidro2024-.jpg
END:VEVENT
BEGIN:VEVENT
DTSTART;TZID=Europe/Madrid:20240427T210000
DTEND;TZID=Europe/Madrid:20240427T233000
DTSTAMP:20260420T094804
CREATED:20240128T221211Z
LAST-MODIFIED:20240419T211702Z
UID:148819-1714251600-1714260600@musicazul.com
SUMMARY:JaviJavier + Joder Juan
DESCRIPTION:ENTRADAS ANTICIPADAS
URL:https://musicazul.com/event/javijavier-joder-juan-madrid-wurlitzer-ballroom-sabado-27-abril-2024/
LOCATION:Wurlitzer Ballroom\, Calle de las Tres Cruces\, 12\, Centro\, Madrid\, Comunidad de Madrid\, 28013\, España
ATTACH;FMTTYPE=image/jpeg:https://www.musicazul.com/wp-content/uploads/2024/03/soundisidro2024-.jpg
END:VEVENT
BEGIN:VEVENT
DTSTART;TZID=Europe/Madrid:20240427T210000
DTEND;TZID=Europe/Madrid:20240427T233000
DTSTAMP:20260420T094804
CREATED:20231226T212736Z
LAST-MODIFIED:20231226T212736Z
UID:146026-1714251600-1714260600@musicazul.com
SUMMARY:Chica Sobresalto
DESCRIPTION:ENTRADAS ANTICIPADAS
URL:https://musicazul.com/event/chica-sobresalto-granada-espacio-aliatar-sabado-27-abril-2024/
LOCATION:Espacio Ailatar\, Calle Recogidas\, 2\, Centro\, Granada\, Andalucía\, 18002\, España
ATTACH;FMTTYPE=image/jpeg:https://www.musicazul.com/wp-content/uploads/2023/12/chicasobresalto26122023-.jpg
END:VEVENT
BEGIN:VEVENT
DTSTART;TZID=Europe/Madrid:20240427T200000
DTEND;TZID=Europe/Madrid:20240427T233000
DTSTAMP:20260420T094804
CREATED:20240128T220615Z
LAST-MODIFIED:20240419T211036Z
UID:148817-1714248000-1714260600@musicazul.com
SUMMARY:Monteperdido + Sandré
DESCRIPTION:ENTRADAS ANTICIPADAS
URL:https://musicazul.com/event/monteperdido-sandre-madrid-copernico-sabado-27-abril-2024/
LOCATION:Copérnico\, Calle de Fernández de los Ríos\, 67\, Chamberí\, Madrid\, 28015\, España
ATTACH;FMTTYPE=image/jpeg:https://www.musicazul.com/wp-content/uploads/2024/03/soundisidro2024-.jpg
END:VEVENT
BEGIN:VEVENT
DTSTART;TZID=Europe/Madrid:20240426T220000
DTEND;TZID=Europe/Madrid:20240426T233000
DTSTAMP:20260420T094804
CREATED:20240128T214400Z
LAST-MODIFIED:20240419T205018Z
UID:148812-1714168800-1714174200@musicazul.com
SUMMARY:ANADIE
DESCRIPTION:ENTRADAS ANTICIPADAS
URL:https://musicazul.com/event/anadie-madrid-contraclub-viernes-26-abril-2024/
LOCATION:Contraclub\, Calle de Bailén\, 16\, Centro\, Madrid\, Comunidad de Madrid\, 28005\, España
ATTACH;FMTTYPE=image/jpeg:https://www.musicazul.com/wp-content/uploads/2024/03/soundisidro2024-.jpg
END:VEVENT
BEGIN:VEVENT
DTSTART;TZID=Europe/Madrid:20240426T220000
DTEND;TZID=Europe/Madrid:20240426T233000
DTSTAMP:20260420T094804
CREATED:20231226T212034Z
LAST-MODIFIED:20231226T212034Z
UID:146023-1714168800-1714174200@musicazul.com
SUMMARY:Chica Sobresalto
DESCRIPTION:ENTRADAS ANTICIPADAS
URL:https://musicazul.com/event/chica-sobresalto-almeria-berlin-social-club-viernes-26-abril-2024/
LOCATION:Berlín Social Club\, Parque de Nicolás Salmerón\, 9\, Almería\, España
ATTACH;FMTTYPE=image/jpeg:https://www.musicazul.com/wp-content/uploads/2023/12/chicasobresalto26122023-.jpg
END:VEVENT
BEGIN:VEVENT
DTSTART;TZID=Europe/Madrid:20240426T210000
DTEND;TZID=Europe/Madrid:20240426T233000
DTSTAMP:20260420T094804
CREATED:20240128T213111Z
LAST-MODIFIED:20240419T203543Z
UID:148808-1714165200-1714174200@musicazul.com
SUMMARY:Atención Tsunami + Jamie 4 President
DESCRIPTION:ENTRADAS ANTICIPADAS
URL:https://musicazul.com/event/atencion-tsunami-jamie-4-president-madrid-el-sol-viernes-26-abril-2024/
LOCATION:El Sol\, C. de los Jardines\, 3\, Centro\, Madrid\, Comunidad de Madrid\, 28013\, España
ATTACH;FMTTYPE=image/jpeg:https://www.musicazul.com/wp-content/uploads/2024/03/soundisidro2024-.jpg
END:VEVENT
BEGIN:VEVENT
DTSTART;TZID=Europe/Madrid:20240426T203000
DTEND;TZID=Europe/Madrid:20240426T233000
DTSTAMP:20260420T094804
CREATED:20240128T215435Z
LAST-MODIFIED:20240419T210259Z
UID:148815-1714163400-1714174200@musicazul.com
SUMMARY:Ela Rea + Syd dePalma
DESCRIPTION:ENTRADAS ANTICIPADAS
URL:https://musicazul.com/event/ela-rea-syd-depalma-madrid-cadavra-viernes-26-abril-2024/
LOCATION:Cadavra\, Calle del Caballero de Gracia\, 10\, Centro\,\, Madrid\, Comunidad de Madrid\, 28013\, España
ATTACH;FMTTYPE=image/jpeg:https://www.musicazul.com/wp-content/uploads/2024/03/soundisidro2024-.jpg
END:VEVENT
BEGIN:VEVENT
DTSTART;TZID=Europe/Madrid:20240426T200000
DTEND;TZID=Europe/Madrid:20240426T233000
DTSTAMP:20260420T094804
CREATED:20240128T213735Z
LAST-MODIFIED:20240419T204103Z
UID:148810-1714161600-1714174200@musicazul.com
SUMMARY:Bala + Codo
DESCRIPTION:ENTRADAS ANTICIPADAS
URL:https://musicazul.com/event/bala-codo-madrid-copernico-viernes-26-abril-2024/
LOCATION:Copérnico\, Calle de Fernández de los Ríos\, 67\, Chamberí\, Madrid\, 28015\, España
ATTACH;FMTTYPE=image/jpeg:https://www.musicazul.com/wp-content/uploads/2024/03/soundisidro2024-.jpg
END:VEVENT
BEGIN:VEVENT
DTSTART;TZID=Europe/Madrid:20240426T200000
DTEND;TZID=Europe/Madrid:20240426T233000
DTSTAMP:20260420T094804
CREATED:20240128T211751Z
LAST-MODIFIED:20240419T202137Z
UID:148806-1714161600-1714174200@musicazul.com
SUMMARY:Nerve Agent
DESCRIPTION:ENTRADAS ANTICIPADAS
URL:https://musicazul.com/event/nerve-agent-madrid-but-viernes-26-abril-2024/
LOCATION:But\, Calle Barceló\, 11\, Local B\, Centro\, Madrid\, Comunidad de Madrid\, 28004\, España
ATTACH;FMTTYPE=image/jpeg:https://www.musicazul.com/wp-content/uploads/2024/03/soundisidro2024-.jpg
END:VEVENT
BEGIN:VEVENT
DTSTART;TZID=Europe/Madrid:20240425T210000
DTEND;TZID=Europe/Madrid:20240425T233000
DTSTAMP:20260420T094804
CREATED:20231226T210827Z
LAST-MODIFIED:20231226T210827Z
UID:146020-1714078800-1714087800@musicazul.com
SUMMARY:Chica Sobresalto
DESCRIPTION:ENTRADAS ANTICIPADAS
URL:https://musicazul.com/event/chica-sobresalto-murcia-garaje-beat-club-jueves-25-abril-2024/
LOCATION:Garaje Beat Club\, Avenida Miguel de Cervantes\, 45\, Murcia\, Murcia\, 30009\, España
ATTACH;FMTTYPE=image/jpeg:https://www.musicazul.com/wp-content/uploads/2023/12/chicasobresalto26122023-.jpg
END:VEVENT
BEGIN:VEVENT
DTSTART;TZID=Europe/Madrid:20240425T210000
DTEND;TZID=Europe/Madrid:20240425T230000
DTSTAMP:20260420T094804
CREATED:20240128T191333Z
LAST-MODIFIED:20240419T181912Z
UID:148801-1714078800-1714086000@musicazul.com
SUMMARY:Orslok
DESCRIPTION:ENTRADAS ANTICIPADAS
URL:https://musicazul.com/event/orslok-madrid-independance-jueves-25-abril-2024/
LOCATION:Independance Club\, Calle de Atocha\, 127\, Centro\, Madrid\, Comunidad de Madrid\, 28012\, España
ATTACH;FMTTYPE=image/jpeg:https://www.musicazul.com/wp-content/uploads/2024/03/soundisidro2024-.jpg
END:VEVENT
BEGIN:VEVENT
DTSTART;TZID=Europe/Madrid:20240425T200000
DTEND;TZID=Europe/Madrid:20240425T233000
DTSTAMP:20260420T094804
CREATED:20240128T190446Z
LAST-MODIFIED:20240419T181933Z
UID:148799-1714075200-1714087800@musicazul.com
SUMMARY:Xina Mora
DESCRIPTION:ENTRADAS ANTICIPADAS
URL:https://musicazul.com/event/xina-mora-madrid-clamores-jueves-25-abril-2024/
LOCATION:Clamores\, Calle de Alburquerque\, 14\, Chamberí\, Madrid\, Comunidad de Madrid\, 28010\, España
ATTACH;FMTTYPE=image/jpeg:https://www.musicazul.com/wp-content/uploads/2024/03/soundisidro2024-.jpg
END:VEVENT
BEGIN:VEVENT
DTSTART;TZID=Europe/Madrid:20240424T190000
DTEND;TZID=Europe/Madrid:20240424T233000
DTSTAMP:20260420T094804
CREATED:20240102T190244Z
LAST-MODIFIED:20240102T190244Z
UID:146117-1713985200-1714001400@musicazul.com
SUMMARY:Stoned Jesus + Mars Red Sky
DESCRIPTION:ENTRADAS ANTICIPADAS
URL:https://musicazul.com/event/stoned-jesus-mars-red-sky-barcelona-razzmatazz-3-miercoles-24-abril-2024/
LOCATION:Razzmatazz 3\, Carrer dels Almogàvers\, 122\, Barcelona\, Barcelona\, 08018\, España
ATTACH;FMTTYPE=image/jpeg:https://www.musicazul.com/wp-content/uploads/2024/01/stonedjesus02012024-.jpg
END:VEVENT
END:VCALENDAR